BEGIN:VCALENDAR
VERSION:2.0
PRODID:-//Emsland GmbH - ECPv6.15.18//NONSGML v1.0//EN
CALSCALE:GREGORIAN
METHOD:PUBLISH
X-ORIGINAL-URL:https://emslandgmbh.de
X-WR-CALDESC:Veranstaltungen für Emsland GmbH
REFRESH-INTERVAL;VALUE=DURATION:PT1H
X-Robots-Tag:noindex
X-PUBLISHED-TTL:PT1H
BEGIN:VTIMEZONE
TZID:Europe/Paris
BEGIN:DAYLIGHT
TZOFFSETFROM:+0100
TZOFFSETTO:+0200
TZNAME:CEST
DTSTART:20230326T010000
END:DAYLIGHT
BEGIN:STANDARD
TZOFFSETFROM:+0200
TZOFFSETTO:+0100
TZNAME:CET
DTSTART:20231029T010000
END:STANDARD
BEGIN:DAYLIGHT
TZOFFSETFROM:+0100
TZOFFSETTO:+0200
TZNAME:CEST
DTSTART:20240331T010000
END:DAYLIGHT
BEGIN:STANDARD
TZOFFSETFROM:+0200
TZOFFSETTO:+0100
TZNAME:CET
DTSTART:20241027T010000
END:STANDARD
BEGIN:DAYLIGHT
TZOFFSETFROM:+0100
TZOFFSETTO:+0200
TZNAME:CEST
DTSTART:20250330T010000
END:DAYLIGHT
BEGIN:STANDARD
TZOFFSETFROM:+0200
TZOFFSETTO:+0100
TZNAME:CET
DTSTART:20251026T010000
END:STANDARD
BEGIN:DAYLIGHT
TZOFFSETFROM:+0100
TZOFFSETTO:+0200
TZNAME:CEST
DTSTART:20260329T010000
END:DAYLIGHT
BEGIN:STANDARD
TZOFFSETFROM:+0200
TZOFFSETTO:+0100
TZNAME:CET
DTSTART:20261025T010000
END:STANDARD
BEGIN:DAYLIGHT
TZOFFSETFROM:+0100
TZOFFSETTO:+0200
TZNAME:CEST
DTSTART:20270328T010000
END:DAYLIGHT
BEGIN:STANDARD
TZOFFSETFROM:+0200
TZOFFSETTO:+0100
TZNAME:CET
DTSTART:20271031T010000
END:STANDARD
END:VTIMEZONE
BEGIN:VEVENT
DTSTART;TZID=Europe/Paris:20260312T090000
DTEND;TZID=Europe/Paris:20260312T110000
DTSTAMP:20260422T073120
CREATED:20251211T122620Z
LAST-MODIFIED:20260303T085009Z
UID:10000557-1773306000-1773313200@emslandgmbh.de
SUMMARY:Frauenfrühstück mit Vortrag und Austausch
DESCRIPTION:Bei einem leckeren Frühstück und in lockerer Atmosphäre berichten Mechthild und Carmen Muntel aus Thuine und Lingen von ihren vielfältigen Unternehm(ung)en. \nIm Fokus stehen der ehemalige Salon und die Haarpraxis Muntel\, die Haar- und Kopfhautpflegeserie MUDOCARE sowie die Arbeit im Netzwerk DEEP. Was zunächst nach chaotischer Vielfalt aussehen mag\, ist das Ergebnis jahrelanger Kompetenzreflexion und genauer Markbeobachtung. \nMechthild Muntel eröffnete 1980 den Salon Muntel in Thuine und spezialisierte sich später als Pharmakosmetologin in ihrer Haarpraxis auf Kopfhautprobleme und Haarausfall. \nDiese Spezialisierung erforderte die Arbeit mit passenden Kopfhautpflegeprodukten. Die daraus entstandene\, eigene basische Pflegeserie\, wird nach Relaunch von Dominik und Carmen Muntel seit 2020 als MUDOCARE weitergeführt. \nCarmen Muntel verbindet MUDOCARE mit ihrer Tätigkeit als Kompetenzentwicklerin im Netzwerk DEEP. Sie berät\, konzipiert und realisiert Bildungsangebote in drei eigenständigen Themenfeldern. \nIn dem Mutter-Tochter Vortrag geht es nicht nur um die Historie der Unternehmen\, sondern auch um die Bedeutung von Markbeobachtung\, klarer Schwerpunktsetzung und der Entwicklung von Alleinstellungsmerkmalen. \nDie Referentinnen und das Team der Emsland GmbH freuen sich darauf\, an diesem Vormittag ins Gespräch mit Frauen zu kommen\, die Lust auf Austausch\, Inspiration und ansteckende Power haben. \nAktives Netzwerken\, neue Kontakte\, Kooperationen und interessante Gespräche sind Ziel dieser Runde. \n\nDieses Frauen Business Frühstück bietet Zeit und Raum für Kommunikation und Kontakte im Rahmen eines entspannten leckeren Frühstücks. Visitenkarten bitte nicht vergessen!\nWir freuen uns stets über neue Gesichter. Die Veranstaltung richtet sich an Existenzgründerinnen\, Unternehmerinnen und unternehmerisch denkende Frauen. Bei Interesse werden Sie gern Mitglied beim Netzwerk Emsländischer Unternehmerinnen NEU. Infos und Anmeldung zu NEU.\n\n\nDer Kostenbeitrag für das Frühstück beträgt 8€ und ist vor Ort bar zu bezahlen.\n\n\nWir freuen uns über Ihre Anmeldung. Bei Verhinderung ist es unbedingt notwendig\, sich bis Freitag\,06.03.26 bis 13 Uhr kostenfrei abzumelden. Telefonisch 05931 44 6504 oder per Mail mechthild.gerling@emsland.de\nDie Teilnehmerinnenzahl ist begrenzt. Anmeldeschluss: 05.03.2026\n\n\nEntschuldige\, dein Browser unterstützt eingebettete Videos nicht.
URL:https://emslandgmbh.de/event/frauenfruehstueck-mit-vortrag-und-austausch-5/
LOCATION:Kräuterhof Rosen\, Zum Wald 12\, Geeste-Bramhar\, 49744
CATEGORIES:Existenzgründung,Netzwerkevent,NEU
ATTACH;FMTTYPE=image/jpeg:https://emslandgmbh.de/wp-content/uploads/2025/12/Muntel_Bild_quer-scaled.jpg
ORGANIZER;CN="Emsland GmbH":MAILTO:emslandgmbh@emsland.de
GEO:52.6087425;7.3727265
X-APPLE-STRUCTURED-LOCATION;VALUE=URI;X-ADDRESS=Kräuterhof Rosen Zum Wald 12 Geeste-Bramhar 49744;X-APPLE-RADIUS=500;X-TITLE=Zum Wald 12:geo:7.3727265,52.6087425
END:VEVENT
BEGIN:VEVENT
DTSTART;TZID=Europe/Paris:20251204T090000
DTEND;TZID=Europe/Paris:20251204T110000
DTSTAMP:20260422T073120
CREATED:20251008T094829Z
LAST-MODIFIED:20251203T083652Z
UID:10000472-1764838800-1764846000@emslandgmbh.de
SUMMARY:Frauenfrühstück mit Vortrag und Austausch
DESCRIPTION:Bei einem leckeren Frühstück und einer lockeren Mischung aus Zuhören und Mitmachen wird Sabrina Specken aus Haren von sich und ihrem Business erzählen. \nSabrina ist mit ihrem Unternehmen „happylife – Coaching & Achtsamkeit“ selbständig. Sie bietet Einzelcoachings und Achtsamkeitskurse für Gruppen in Präsenz und online an. Als studierte Wirtschaftspsychologin und Fitnessökonomin ist sie Expertin für die achtsame Verbindung von Körper und Geist. Darüber hinaus ist Sabrina aktuell als Assistentin der Geschäftsführung bei Speaker Stars engagiert und moderiert dort Live-Events. Sie selbst hat 2023 am Redner-Wettbewerb „Germanys Next Speaker Star“ teilgenommen und es bis ins Halbfinale geschafft. Seither arbeitet sie bei der Organisation als „Feel Good Managerin“ und kümmert sich um die Kandidaten\, Organisation und Durchführung der Events. \nSabrina und das Team der Emsland GmbH freuen sich darauf\, an diesem Vormittag ins Gespräch mit Frauen zu kommen\, die Lust auf Austausch\, Inspiration und ansteckende Power haben. \nAktives Netzwerken\, neue Kontakte\, Kooperationen und interessante Gespräche sind Ziel dieser Runde. \n\nDieses Frauen Business Frühstück bietet Zeit und Raum für Kommunikation und Kontakte im Rahmen eines entspannten leckeren Frühstücks. Visitenkarten bitte nicht vergessen!\nWir freuen uns stets über neue Gesichter. Die Veranstaltung richtet sich an Existenzgründerinnen\, Unternehmerinnen und unternehmerisch denkende Frauen. Bei Interesse werden Sie gern Mitglied beim Netzwerk Emsländischer Unternehmerinnen NEU. Infos und Anmeldung zu NEU.\n\nDer Kostenbeitrag für das Frühstück beträgt 8€ und ist vor Ort bar zu bezahlen.\n\nWir freuen uns über Ihre Anmeldung. Bei Verhinderung ist es unbedingt notwendig\, sich bis Montag\,01.12.25\, bis 13 Uhr kostenfrei abzumelden. Telefonisch 0151 41400622 oder per Mail mechthild.gerling@emsland.de\nDie Teilnehmerinnenzahl ist begrenzt. Anmeldeschluss: 01.12.2025
URL:https://emslandgmbh.de/event/frauenfruehstueck-mit-vortrag-und-austausch-4/
LOCATION:Kräuterhof Rosen\, Zum Wald 12\, Geeste-Bramhar\, 49744
CATEGORIES:Existenzgründung,Netzwerkevent,NEU
ATTACH;FMTTYPE=image/jpeg:https://emslandgmbh.de/wp-content/uploads/2025/10/Sabrina-Specken.jpg
ORGANIZER;CN="Emsland GmbH":MAILTO:emslandgmbh@emsland.de
GEO:52.6087425;7.3727265
X-APPLE-STRUCTURED-LOCATION;VALUE=URI;X-ADDRESS=Kräuterhof Rosen Zum Wald 12 Geeste-Bramhar 49744;X-APPLE-RADIUS=500;X-TITLE=Zum Wald 12:geo:7.3727265,52.6087425
END:VEVENT
BEGIN:VEVENT
DTSTART;TZID=Europe/Paris:20250916T090000
DTEND;TZID=Europe/Paris:20250916T110000
DTSTAMP:20260422T073120
CREATED:20250807T094209Z
LAST-MODIFIED:20250911T100332Z
UID:10000464-1758013200-1758020400@emslandgmbh.de
SUMMARY:Frauenfrühstück mit Vortrag und Austausch
DESCRIPTION:Bei einem leckeren Frühstück und einer lockeren Mischung aus Zuhören und Mitmachen wird Christiane Schiefelbein aus Lingen von sich und ihrem Unternehmen erzählen. Mit der Eröffnung ihrer Privatpraxis für Physio- und Fußreflexzonentherapie im Jahr 2023 erfüllte sie sich einen Traum und widmet sich mit ihrer Arbeit der ganzheitlichen Betrachtung und Behandlung ihrer Patienten. \nIn ihrem Vortrag möchte sie darüber sprechen\, wie ihr persönlicher Weg von der Idee bis zur Gründung des Unternehmens verlaufen ist und wer sie auf diesem Weg begleitet und unterstützt hat. Mit dieser Hilfe und jeder Menge eigener Energie konnte sie ihr Konzept verwirklichen\, das es ihr ermöglicht\, ihren Patienten eine ganzheitliche Therapie mit ausreichend Zeit und Ruhe anzubieten. Christiane und das Team der Emsland GmbH freuen sich darauf\, an diesem Vormittag ins Gespräch mit Frauen zu kommen\, die Lust auf Austausch\, Inspiration und ansteckende Power haben. \nAktives Netzwerken\, neue Kontakte\, Kooperationen und interessante Gespräche sind Ziel dieser Runde. \n\nDieses Frauen Business Frühstück bietet Zeit und Raum für Kommunikation und Kontakte im Rahmen eines entspannten leckeren Frühstücks. Visitenkarten bitte nicht vergessen!\n\nDer Kostenbeitrag für das Frühstück beträgt 8€ und ist vor Ort bar zu bezahlen.\nWir freuen uns über Ihre Anmeldung. Bei Verhinderung ist es unbedingt notwendig\, sich bis Donnerstag\, 11.09.25\, bis 15 Uhr kostenfrei abzumelden. Telefonisch 0151 41400622 oder per Mail mechthild.gerling@emsland.de\n\nDie Teilnehmerzahl ist begrenzt. Anmeldeschluss: 11.09.2025
URL:https://emslandgmbh.de/event/frauenfruehstueck-mit-vortrag-und-austausch-3/
LOCATION:Kräuterhof Rosen\, Zum Wald 12\, Geeste-Bramhar\, 49744
CATEGORIES:Existenzgründung,Netzwerkevent,NEU
ATTACH;FMTTYPE=image/jpeg:https://emslandgmbh.de/wp-content/uploads/2025/08/Christiane-Schiefelbein.jpg
ORGANIZER;CN="Emsland GmbH":MAILTO:emslandgmbh@emsland.de
GEO:52.6087425;7.3727265
X-APPLE-STRUCTURED-LOCATION;VALUE=URI;X-ADDRESS=Kräuterhof Rosen Zum Wald 12 Geeste-Bramhar 49744;X-APPLE-RADIUS=500;X-TITLE=Zum Wald 12:geo:7.3727265,52.6087425
END:VEVENT
BEGIN:VEVENT
DTSTART;TZID=Europe/Paris:20250624T090000
DTEND;TZID=Europe/Paris:20250624T110000
DTSTAMP:20260422T073120
CREATED:20250520T080516Z
LAST-MODIFIED:20250619T065134Z
UID:10000429-1750755600-1750762800@emslandgmbh.de
SUMMARY:Frauenfrühstück mit Vortrag und Austausch
DESCRIPTION:Bei einem leckeren Frühstück und einer lockeren Mischung aus Zuhören und Mitmachen wird Jessica Jansen aus Meppen von sich und ihrem Unternehmen erzählen.  Aufgrund persönlicher Ereignisse und vieler Herausforderungen\, hat Jessica einen „Cut“ gemacht und ihr Leben neu in die Hand genommen. Sie war auf der Suche nach einem neuen Weg- nach einem Leben\, das wirklich zu ihr passt und hat es nun in ihrem Unternehmen gefunden. \nHeute begleitet sie als Coach\, Mentorin und Expertin für Nervensystemregulation Frauen dabei\, sich aus alten Mustern zu lösen\, sich selbst wieder zu vertrauen und ein Business aufzubauen\, das ihnen wirklich entspricht. Sie arbeitet traumasensibel und zeigt Unternehmerinnen und Networkerinnen\, wo sie sich selbst im Weg stehen und wie sie ihr volles Potenzial entfalten können – nicht durch noch mehr Tun\, sondern durch ein tiefes Ankommen in sich selbst. \nIn ihrem Vortrag möchte sie darüber sprechen\, wie unser Nervensystem unseren Erfolg als Unternehmerin beeinflusst – warum viele trotz harter Arbeit feststecken\, sich selbst sabotieren oder immer wieder ins Überleben statt ins Erschaffen rutschen. Sie wird zeigen\, wie wir innere Sicherheit kultivieren\, um mutige Entscheidungen zu treffen\, uns sichtbar zu machen und mit Leichtigkeit ein erfüllendes Business aufzubauen. \nAktives Netzwerken\, neue Kontakte\, Kooperationen und interessante Gespräche sind Ziel dieser Runde. \n\nDieses Frauen Business Frühstück bietet Zeit und Raum für Kommunikation und Kontakte im Rahmen eines entspannten leckeren Frühstücks. Visitenkarten bitte nicht vergessen!\n\nDer Kostenbeitrag für das Frühstück beträgt 8€ und ist vor Ort bar zu bezahlen.\nDie “No-Show-Gebühr” wird mit 15 € berechnet. Bitte daher nur bei sicher beabsichtigter Teilnahme anmelden oder bis drei Tage vorher abmelden.\n\nDie Teilnehmerzahl ist begrenzt. Anmeldeschluss: 19.06.2025\n\n\nSollte eine Anmeldung nicht möglich sein\, dann melden Sie sich bitte telefonisch unter 05931-4939602 an oder schreiben eine E-Mail an Stefanie.Schulte@emsland.de mit Angabe ihrer Kontaktdaten.
URL:https://emslandgmbh.de/event/frauenfruehstueck-mit-vortrag-und-austausch-2/
LOCATION:Kräuterhof Rosen\, Zum Wald 12\, Geeste-Bramhar\, 49744
CATEGORIES:Netzwerkevent,NEU
ATTACH;FMTTYPE=image/jpeg:https://emslandgmbh.de/wp-content/uploads/2025/05/Jessica-Jansen-e1747728986590.jpeg
ORGANIZER;CN="Emsland GmbH":MAILTO:emslandgmbh@emsland.de
GEO:52.6087425;7.3727265
X-APPLE-STRUCTURED-LOCATION;VALUE=URI;X-ADDRESS=Kräuterhof Rosen Zum Wald 12 Geeste-Bramhar 49744;X-APPLE-RADIUS=500;X-TITLE=Zum Wald 12:geo:7.3727265,52.6087425
END:VEVENT
BEGIN:VEVENT
DTSTART;TZID=Europe/Paris:20250401T090000
DTEND;TZID=Europe/Paris:20250401T110000
DTSTAMP:20260422T073120
CREATED:20250225T083706Z
LAST-MODIFIED:20250327T094033Z
UID:10000307-1743498000-1743505200@emslandgmbh.de
SUMMARY:Frauenfrühstück mit Vortrag und Austausch - AUSGEBUCHT!
DESCRIPTION:Bei einem leckeren Frühstück und einer lockeren Mischung aus Zuhören und Mitmachen wird Kerstin Book aus Haselünne von sich und ihrem Unternehmen erzählen. Aufgrund persönlicher Ereignisse und vieler Herausforderungen\, hat Kerstin einen „Cut“ gemacht und ihr Leben neu in die Hand genommen. Von heute auf morgen kündigte sie ihren Job\, ist angefangen sich mit sich selbst tiefgehend zu beschäftigen und konnte dank der Arbeit mit der therapeutischen Hypnose nicht nur schnell wieder zurück zu neuer Stärke\, mehr Klarheit und Selbstbewusstsein kommen\, sondern hat auch dadurch ihr Herzensbusiness gefunden und sich als zertifizierte Hypnosecoachin selbständig gemacht. \nHeute begleitet sie vor allem Frauen wieder in ihre Kraft und Größe zu kommen\, ihr Selbstbewusstsein zu stärken und selbstbestimmt zu leben. Ihre Arbeit setzt genau dort an\, wo viele aufhören: Es geht darum\, tief verwurzelte Überzeugungen\, unbewusste Blockaden\, Kindheitserfahrungen oder alte Glaubenssätze an der Wurzel nachhaltig zu verändern und nicht nur oberflächlich Symptome zu betrachten. Bei ihr geht es um ein ganzheitliches Coaching\, welches transformierend\, heilend und kraftspendend ist. Und damit jeder schnell und effektiv in die Veränderung kommt\, bietet sie ihre Coachings ganz flexibel Online an. Sowohl Einzel- als auch Gruppensessions. Damit können Klienten bequem von zuhause in ihrem gewohnten Umfeld mit ihrem Laptop\, ohne lange Fahrwege das Coaching genießen. \nAktives Netzwerken\, neue Kontakte\, Kooperationen und interessante Gespräche sind Ziel dieser Runde. \n\nDieses Frauen Business Frühstück bietet Zeit und Raum für Kommunikation und Kontakte im Rahmen eines entspannten leckeren Frühstücks. Visitenkarten bitte nicht vergessen!\n\nDer Kostenbeitrag für das Frühstück beträgt 5€ und ist vor Ort bar zu bezahlen.\nDie “No-Show-Gebühr” wird mit 15 € berechnet. Bitte daher nur bei sicher beabsichtigter Teilnahme anmelden oder bis drei Tage vorher abmelden.\n\nDie Teilnehmerzahl ist begrenzt. Anmeldeschluss: 27.03.2024\n\n\nSollte eine Anmeldung nicht möglich sein\, dann melden Sie sich bitte telefonisch unter 05931-4939602 an oder schreiben eine E-Mail an Stefanie.Schulte@emsland.de mit Angabe ihrer Kontaktdaten.
URL:https://emslandgmbh.de/event/frauenfruehstueck-mit-vortrag-und-austausch-2-2025-04-01/
LOCATION:Kräuterhof Rosen\, Zum Wald 12\, Geeste-Bramhar\, 49744
CATEGORIES:Netzwerkevent,NEU
ATTACH;FMTTYPE=image/jpeg:https://emslandgmbh.de/wp-content/uploads/2025/02/2025_Kerstin-Book-quer.jpg
ORGANIZER;CN="Emsland GmbH":MAILTO:emslandgmbh@emsland.de
GEO:52.6087425;7.3727265
X-APPLE-STRUCTURED-LOCATION;VALUE=URI;X-ADDRESS=Kräuterhof Rosen Zum Wald 12 Geeste-Bramhar 49744;X-APPLE-RADIUS=500;X-TITLE=Zum Wald 12:geo:7.3727265,52.6087425
END:VEVENT
BEGIN:VEVENT
DTSTART;TZID=Europe/Paris:20241203T090000
DTEND;TZID=Europe/Paris:20241203T110000
DTSTAMP:20260422T073120
CREATED:20241008T131732Z
LAST-MODIFIED:20241114T122338Z
UID:10000153-1733216400-1733223600@emslandgmbh.de
SUMMARY:Frauenfrühstück mit Vortrag und Austausch
DESCRIPTION:“Finde deine Mitte”\n \nBei einem leckeren Frühstück und einer lockeren Mischung aus Zuhören und Mitmachen wird Carolin Frerich aus Lingen von sich selbst und ihrem Unternehmen erzählen. Aufgrund persönlicher Ereignisse hat Carolin ihrem Leben eine Kehrtwende gegeben und sich in diesem Zuge beruflich neu orientiert. So kam es zur Gründung von “Bewusst Begleitet”\, einem Unternehmen\, das sich schwerpunktmäßig mit Themen der Persönlichkeitsentwicklung auseinander setzt und Coaching und Mentoring für Frauen und Mütter anbietet. \nAktives Netzwerken\, neue Kontakte\, Kooperationen und interessante Gespräche sind Ziel dieser Runde. \n\nDieses Frauen Business Frühstück bietet Zeit und Raum für Kommunikation und Kontakte im Rahmen eines entspannten Frühstücks. Visitenkarten bitte nicht vergessen!\n\nDer Kostenbeitrag für das Frühstück beträgt 5€ und ist vor Ort bar zu bezahlen.\nDie “No-Show-Gebühr” wird mit 15 € berechnet. Bitte daher nur bei sicher beabsichtigter Teilnahme anmelden oder bis drei Tage vorher abmelden.\n\nDie Teilnehmerzahl ist begrenzt. Anmeldeschluss: 28.11.2024\n\n\nSollte eine Anmeldung nicht möglich sein\, dann melden Sie sich bitte telefonisch unter 05931-4939602 an oder schreiben eine E-Mail an Stefanie.Schulte@emsland.de mit Angabe ihrer Kontaktdaten.
URL:https://emslandgmbh.de/event/frauenfruehstueck-mit-vortrag-und-austausch/
LOCATION:Kräuterhof Rosen\, Zum Wald 12\, Geeste-Bramhar\, 49744
CATEGORIES:Existenzgründung,Netzwerkevent,NEU
ATTACH;FMTTYPE=image/webp:https://emslandgmbh.de/wp-content/uploads/2024/10/Bild_19-scaled-1.webp
ORGANIZER;CN="Emsland GmbH":MAILTO:emslandgmbh@emsland.de
GEO:52.6087425;7.3727265
X-APPLE-STRUCTURED-LOCATION;VALUE=URI;X-ADDRESS=Kräuterhof Rosen Zum Wald 12 Geeste-Bramhar 49744;X-APPLE-RADIUS=500;X-TITLE=Zum Wald 12:geo:7.3727265,52.6087425
END:VEVENT
END:VCALENDAR