BEGIN:VCALENDAR
VERSION:2.0
PRODID:-//Emsland GmbH - ECPv6.15.18//NONSGML v1.0//EN
CALSCALE:GREGORIAN
METHOD:PUBLISH
X-WR-CALNAME:Emsland GmbH
X-ORIGINAL-URL:https://emslandgmbh.de
X-WR-CALDESC:Veranstaltungen für Emsland GmbH
REFRESH-INTERVAL;VALUE=DURATION:PT1H
X-Robots-Tag:noindex
X-PUBLISHED-TTL:PT1H
BEGIN:VTIMEZONE
TZID:Europe/Paris
BEGIN:DAYLIGHT
TZOFFSETFROM:+0100
TZOFFSETTO:+0200
TZNAME:CEST
DTSTART:20250330T010000
END:DAYLIGHT
BEGIN:STANDARD
TZOFFSETFROM:+0200
TZOFFSETTO:+0100
TZNAME:CET
DTSTART:20251026T010000
END:STANDARD
BEGIN:DAYLIGHT
TZOFFSETFROM:+0100
TZOFFSETTO:+0200
TZNAME:CEST
DTSTART:20260329T010000
END:DAYLIGHT
BEGIN:STANDARD
TZOFFSETFROM:+0200
TZOFFSETTO:+0100
TZNAME:CET
DTSTART:20261025T010000
END:STANDARD
BEGIN:DAYLIGHT
TZOFFSETFROM:+0100
TZOFFSETTO:+0200
TZNAME:CEST
DTSTART:20270328T010000
END:DAYLIGHT
BEGIN:STANDARD
TZOFFSETFROM:+0200
TZOFFSETTO:+0100
TZNAME:CET
DTSTART:20271031T010000
END:STANDARD
END:VTIMEZONE
BEGIN:VEVENT
DTSTART;VALUE=DATE:20260520
DTEND;VALUE=DATE:20260522
DTSTAMP:20260421T175919
CREATED:20260421T093106Z
LAST-MODIFIED:20260421T093932Z
UID:10000602-1779235200-1779407999@emslandgmbh.de
SUMMARY:FORUM Produktion & IT
DESCRIPTION:FORUM Produktion & IT 2026\n\n\nDas FORUM PRODUKTION & IT ist eine jährliche Fachtagung\, die sich auf die neuesten Entwicklungen und Trends in den Bereichen Produktions- und Informationstechnologien konzentriert. \nDas diesjährige Forum Produktion und IT findet am 20. und 21. Mai 2026 unter dem Motto „Produktionspraxis trifft Künstliche Intelligenz“ in Nordhorn statt. \nDie Tagung bietet eine Plattform für den Austausch von Wissen und Erfahrungen durch Fachvorträge\, Podiumsdiskussionen und eine begleitende Fachausstellung. Ein besonderes Highlight sind die thematischen Betriebsbesichtigungen\, die den Teilnehmenden praktische Einblicke in aktuelle Produktionsprozesse ermöglichen sowie das Abendevent\, bei dem die Gespräche in gemütlicher Atmosphäre vertieft werden können. \nJetzt anmelden und dabei sein! \n\nZum ProgrammWeitere InformationenDirekt zur Anmeldung!Diese Austeller werden an der Veranstaltung teilnehmen: \nJetzt Aussteller werden!Auch der Bereich Innovation der Emsland GmbH ist dabei!\nUnsere Kollegen Markus Mebben\, Stefanie Schulte\, Vera Lüllmann  und Nina Meiners beraten im Rahmen der INTERREG-Projekte InnoLoop & KPF INDUSTR_4.0 sowie den INTERREG-Projekten COMET und D-FLOW \nWeitere Informationen zu den Projekten finden Sie hier:\nInnoLoop: https://www.innoloop-interreg.eu/de \nKPFINDUSTR_4.0: https://www.industri4-interreg.eu/de \nCOMET: https://www.comet-interreg.eu/DE \nD-FLOW: https://emslandgmbh.de/innovation/#d-flow \n\n\n\n\n\n\n\n\nBetriebsbesichtigungen: \n\n\n\n\n\n\n\n\n\n\n\n\n\n\n\n\n\n\n\n\n\n\nNeben dem theoretischen Input soll auch die Praxis nicht zu kurz kommen. Holen Sie sich bei den Betriebsbesichtigungen exklusive Einblicke in Unternehmen der Region und nehmen Sie Ideen und Anregungen für Ihren eigenen Betrieb mit. \nAn beiden Veranstaltungstagen stehen Ihnen wieder spannende Besichtigungen zur Auswahl. \n\n\n\n\n\n\n\n\n\n\n\n\n\n\nWeitere InformationenDirekt zur Anmeldung!
URL:https://emslandgmbh.de/event/forum-produktion-it-2/
LOCATION:NINO-Hochbau\, Nino-Allee 11\, Nordhorn\, 48529\, Germany
CATEGORIES:Innovation,MEMA,Netzwerkevent,Veranstaltung
ATTACH;FMTTYPE=image/png:https://emslandgmbh.de/wp-content/uploads/2026/02/FPIT26_Post.png
ORGANIZER;CN="Emsachse - Wachstumsregion Ems-Achse e. V.":MAILTO:info@emsachse.de
GEO:52.4259116;7.0715463
X-APPLE-STRUCTURED-LOCATION;VALUE=URI;X-ADDRESS=NINO-Hochbau Nino-Allee 11 Nordhorn 48529 Germany;X-APPLE-RADIUS=500;X-TITLE=Nino-Allee 11:geo:7.0715463,52.4259116
END:VEVENT
END:VCALENDAR