BEGIN:VCALENDAR
VERSION:2.0
PRODID:-//Emsland GmbH - ECPv6.15.18//NONSGML v1.0//EN
CALSCALE:GREGORIAN
METHOD:PUBLISH
X-WR-CALNAME:Emsland GmbH
X-ORIGINAL-URL:https://emslandgmbh.de
X-WR-CALDESC:Veranstaltungen für Emsland GmbH
REFRESH-INTERVAL;VALUE=DURATION:PT1H
X-Robots-Tag:noindex
X-PUBLISHED-TTL:PT1H
BEGIN:VTIMEZONE
TZID:Europe/Berlin
BEGIN:DAYLIGHT
TZOFFSETFROM:+0100
TZOFFSETTO:+0200
TZNAME:CEST
DTSTART:20250330T010000
END:DAYLIGHT
BEGIN:STANDARD
TZOFFSETFROM:+0200
TZOFFSETTO:+0100
TZNAME:CET
DTSTART:20251026T010000
END:STANDARD
BEGIN:DAYLIGHT
TZOFFSETFROM:+0100
TZOFFSETTO:+0200
TZNAME:CEST
DTSTART:20260329T010000
END:DAYLIGHT
BEGIN:STANDARD
TZOFFSETFROM:+0200
TZOFFSETTO:+0100
TZNAME:CET
DTSTART:20261025T010000
END:STANDARD
BEGIN:DAYLIGHT
TZOFFSETFROM:+0100
TZOFFSETTO:+0200
TZNAME:CEST
DTSTART:20270328T010000
END:DAYLIGHT
BEGIN:STANDARD
TZOFFSETFROM:+0200
TZOFFSETTO:+0100
TZNAME:CET
DTSTART:20271031T010000
END:STANDARD
END:VTIMEZONE
BEGIN:VTIMEZONE
TZID:Europe/Paris
BEGIN:DAYLIGHT
TZOFFSETFROM:+0100
TZOFFSETTO:+0200
TZNAME:CEST
DTSTART:20250330T010000
END:DAYLIGHT
BEGIN:STANDARD
TZOFFSETFROM:+0200
TZOFFSETTO:+0100
TZNAME:CET
DTSTART:20251026T010000
END:STANDARD
BEGIN:DAYLIGHT
TZOFFSETFROM:+0100
TZOFFSETTO:+0200
TZNAME:CEST
DTSTART:20260329T010000
END:DAYLIGHT
BEGIN:STANDARD
TZOFFSETFROM:+0200
TZOFFSETTO:+0100
TZNAME:CET
DTSTART:20261025T010000
END:STANDARD
BEGIN:DAYLIGHT
TZOFFSETFROM:+0100
TZOFFSETTO:+0200
TZNAME:CEST
DTSTART:20270328T010000
END:DAYLIGHT
BEGIN:STANDARD
TZOFFSETFROM:+0200
TZOFFSETTO:+0100
TZNAME:CET
DTSTART:20271031T010000
END:STANDARD
END:VTIMEZONE
BEGIN:VEVENT
DTSTART;TZID=Europe/Berlin:20260806T140000
DTEND;TZID=Europe/Berlin:20260806T170000
DTSTAMP:20260424T001420
CREATED:20251210T075625Z
LAST-MODIFIED:20251210T101658Z
UID:10000488-1786024800-1786035600@emslandgmbh.de
SUMMARY:Rechtsanwaltssprechtag in Lingen
DESCRIPTION:Im IHK-Büro in Lingen erhalten Existenzgründer eine juristische Erstberatung durch einen von der Rechtsanwaltskammer benannten Experten.\n\nDie Beratung ist kostenlos\, es wird jedoch ein Pfandgeld in Höhe von 25 Euro erhoben\, welches die Teilnehmer nach dem Beratungstermin zurückerhalten. Um Anmeldung wird gebeten\, da die Beratungen in vertraulichen Einzelgesprächen (jeweils ca. 45 Minuten) erfolgen.\n\nDie Anmeldung erfolgt hier über die IHK Osnabrück – Emsland – Grafschaft Bentheim.\nKontakt: Andrea Duhme\, Telefon: 0541 353 327\, E-Mail: duhme@osnabrueck.ihk.de\nAnmeldung
URL:https://emslandgmbh.de/event/rechtsanwaltssprechtage-in-lingen/2026-08-06/
LOCATION:IHK-Büro Lingen\, Kaiserstraße 10b\, Lingen (Ems)\, Niedersachsen\, 49809\, Germany
CATEGORIES:Beratung,ELKONET,EXEL,Existenzgründung,NEU
ATTACH;FMTTYPE=image/jpeg:https://emslandgmbh.de/wp-content/uploads/2024/09/Logo-IHK-800x600px.jpg
GEO:52.5193652;7.3228099
X-APPLE-STRUCTURED-LOCATION;VALUE=URI;X-ADDRESS=IHK-Büro Lingen Kaiserstraße 10b Lingen (Ems) Niedersachsen 49809 Germany;X-APPLE-RADIUS=500;X-TITLE=Kaiserstraße 10b:geo:7.3228099,52.5193652
END:VEVENT
BEGIN:VEVENT
DTSTART;TZID=Europe/Paris:20260813T140000
DTEND;TZID=Europe/Paris:20260813T170000
DTSTAMP:20260424T001420
CREATED:20260324T065635Z
LAST-MODIFIED:20260324T065635Z
UID:10000600-1786629600-1786640400@emslandgmbh.de
SUMMARY:Steuerberatersprechtag in Lingen
DESCRIPTION:Existenzgründer werden bei der Aufnahme ihrer Geschäftstätigkeit mit einer Reihe von Steuerfragen konfrontiert. Sie benötigen Informationen darüber\, was bei Umsatzsteuer\, Gewerbesteuer\, Einkommenssteuer der Körperschaftssteuer im Einzelnen zu beachten ist.\n\nInteressenten sollen sich bereits vor der Beratung mit den Broschüren Steuertipps und Starthilfe über steuerliche Grundlagen informieren. Auf diese Weise kann das Gespräch für detaillierte Fragen genutzt werden. Die Beratung ist kostenlos\, allerdings erheben wir ein Pfandgeld in Höhe von 25 EUR\, das Sie nach dem Beratungstermin zurückbekommen. Da die Beratungen in vertraulichen Einzelgesprächen (jeweils ca. 45 Minuten) erfolgen\, ist eine vorherige Anmeldung notwendig.\n\nDie Anmeldung erfolgt hier über die IHK Osnabrück – Emsland -Grafschaft Bentheim.\nKontakt: Andrea Duhme\, Telefon: 0541 353 327\, E-Mail: duhme@osnabrueck.ihk.de\nZur Anmeldung
URL:https://emslandgmbh.de/event/steuerberatersprechtag-in-lingen-3/2026-08-13/
LOCATION:IT-Zentrum Lingen\, Kaiserstraße 10b\, Lingen (Ems)\, 49809
CATEGORIES:Beratung,ELKONET,EXEL,Existenzgründung,NEU
ATTACH;FMTTYPE=image/jpeg:https://emslandgmbh.de/wp-content/uploads/2024/09/Logo-IHK-800x600px.jpg
GEO:52.5193652;7.3228099
X-APPLE-STRUCTURED-LOCATION;VALUE=URI;X-ADDRESS=IT-Zentrum Lingen Kaiserstraße 10b Lingen (Ems) 49809;X-APPLE-RADIUS=500;X-TITLE=Kaiserstraße 10b:geo:7.3228099,52.5193652
END:VEVENT
END:VCALENDAR