BEGIN:VCALENDAR
VERSION:2.0
PRODID:-//Emsland GmbH - ECPv6.15.18//NONSGML v1.0//EN
CALSCALE:GREGORIAN
METHOD:PUBLISH
X-ORIGINAL-URL:https://emslandgmbh.de
X-WR-CALDESC:Veranstaltungen für Emsland GmbH
REFRESH-INTERVAL;VALUE=DURATION:PT1H
X-Robots-Tag:noindex
X-PUBLISHED-TTL:PT1H
BEGIN:VTIMEZONE
TZID:Europe/Paris
BEGIN:DAYLIGHT
TZOFFSETFROM:+0100
TZOFFSETTO:+0200
TZNAME:CEST
DTSTART:20250330T010000
END:DAYLIGHT
BEGIN:STANDARD
TZOFFSETFROM:+0200
TZOFFSETTO:+0100
TZNAME:CET
DTSTART:20251026T010000
END:STANDARD
BEGIN:DAYLIGHT
TZOFFSETFROM:+0100
TZOFFSETTO:+0200
TZNAME:CEST
DTSTART:20260329T010000
END:DAYLIGHT
BEGIN:STANDARD
TZOFFSETFROM:+0200
TZOFFSETTO:+0100
TZNAME:CET
DTSTART:20261025T010000
END:STANDARD
BEGIN:DAYLIGHT
TZOFFSETFROM:+0100
TZOFFSETTO:+0200
TZNAME:CEST
DTSTART:20270328T010000
END:DAYLIGHT
BEGIN:STANDARD
TZOFFSETFROM:+0200
TZOFFSETTO:+0100
TZNAME:CET
DTSTART:20271031T010000
END:STANDARD
END:VTIMEZONE
BEGIN:VEVENT
DTSTART;TZID=Europe/Paris:20260422T180000
DTEND;TZID=Europe/Paris:20260422T193000
DTSTAMP:20260422T010703
CREATED:20251211T105943Z
LAST-MODIFIED:20260326T105547Z
UID:10000538-1776880800-1776886200@emslandgmbh.de
SUMMARY:Der Weg in die Selbständigkeit - Ein Überblick
DESCRIPTION:Wie sehen die ersten Gründungsschritte aus? Gibt es einen „roten Faden“ für den Gründungsablauf? \nWenn Sie eine Existenzgründung planen und sich über den Weg in die Selbständigkeit einen Überblick verschaffen wollen\, ist unsere Info-Veranstaltung das Richtige für Sie. Sie erhalten hier erstes Basiswissen für Ihre gewerbliche oder freiberufliche Unternehmensgründung. \nWir geben Ihnen Orientierung\, Tipps und Hinweise\, worauf Sie auf dem Weg in die Selbständigkeit achten sollten. Sie erfahren\, wie eine sinnvolle Planung Schritt für Schritt aussieht\, wer Ihnen im Emsland Unterstützung bietet und wie es weitergeht. \nVeranstaltungsformat:\nDie kostenfreie Info-Veranstaltung wird mit der Software Microsoft Teams durchgeführt. Eine Softewareinstallation ist nicht erforderlich\, das Webseminar erfolgt über einen aktuellen Webbrowser. Sie erhalten kurz vor dem Veranstaltungstag eine Mail mit dem notwendigen Anmeldelink. Dialog und Fragestellung sind möglich.\nWer teilnehmen möchte\, braucht Computer/Laptop/Tablet oder Smartphone mit Kamera\, Ton und Internet. Je größer der Bildschirm\, desto komfortabler können Sie der Präsentation folgen. \nHinweis: \nTeilnehmende dieses Seminars erhalten einen attraktiven Rabatt in Höhe von jeweils 50 Euro für die Folgeseminare der Emsland GmbH: \n\nExistenzgründungs-Intensiv-Seminar mit persönlichem Coaching\nEinfache Buchführung – Einnahmen-Überschuss-Rechnung
URL:https://emslandgmbh.de/event/der-weg-in-die-selbstaendigkeit-ein-ueberblick-10/
LOCATION:Online
CATEGORIES:Existenzgründung,Online-Seminar
ATTACH;FMTTYPE=image/jpeg:https://emslandgmbh.de/wp-content/uploads/2024/09/2_Der-Weg-in-die-Selbstaendigkeit.jpg
ORGANIZER;CN="Emsland GmbH":MAILTO:emslandgmbh@emsland.de
END:VEVENT
BEGIN:VEVENT
DTSTART;TZID=Europe/Paris:20260428T160000
DTEND;TZID=Europe/Paris:20260428T213000
DTSTAMP:20260422T010703
CREATED:20251210T113516Z
LAST-MODIFIED:20260324T103526Z
UID:10000511-1777392000-1777411800@emslandgmbh.de
SUMMARY:Nebenberufliche Selbständigkeit
DESCRIPTION:Jedes zweite Unternehmen wird heute zunächst im Nebenerwerb gegründet. Neben einer Anstellung\, in einer Phase der Arbeitslosigkeit oder in der Familienzeit kann es attraktiv sein\, nebenberuflich eine Selbständigkeit aufzubauen. Das Ziel kann dabei beispielsweise sein\, sich beruflich neu zu orientieren\, die Einkünfte aufzubessern oder eine Geschäftsidee am Markt zu testen. Oftmals kann eine nebenberufliche Selbständigkeit auch dazu genutzt werden\, sich einen Kundenstamm aufzubauen oder sich in Netzwerke zu integrieren. \nIm Vorfeld ist es wichtig\, sich mit den rechtlichen und wirtschaftlichen Rahmenbedingungen auseinander zu setzen. \nInhalt:\nKriterien für Selbständigkeit\nAnmeldung (Gewerbe\, freiberufliche Tätigkeit etc.) / Genehmigungen\nRechtsformen\nNebentätigkeit aus unterschiedlichen Lebenssituationen\nSozialversicherung und betriebliche Versicherung in der Nebentätigkeit\nGeschäftsbezeichnung / Werbung\nKalkulation und Preisgestaltung \nBuchführung / Aufzeichnungen / Rechnungsinhalte\nAbschreibung\nJahresabschluss (Einnahmen-Überschuss-Rechnung)\nSteuern (Einkommensteuer; Umsatzsteuer / Kleinunternehmerregelung)\nFinanzierungs- und Förderinstrumente
URL:https://emslandgmbh.de/event/nebenberufliche-selbstaendigkeit-4/
LOCATION:Landkreis Emsland\, Kreishaus I\, Ordeniederung 1\, Meppen\, 49716\, Germany
CATEGORIES:ELKONET,EXEL,Existenzgründung,NEU,Seminar
ATTACH;FMTTYPE=image/webp:https://emslandgmbh.de/wp-content/uploads/2024/09/Stuehle-von-unten_M0001083-korrigiert-scaled-1.webp
ORGANIZER;CN="Emsland GmbH":MAILTO:emslandgmbh@emsland.de
GEO:52.6951211;7.3060344
X-APPLE-STRUCTURED-LOCATION;VALUE=URI;X-ADDRESS=Landkreis Emsland Kreishaus I Ordeniederung 1 Meppen 49716 Germany;X-APPLE-RADIUS=500;X-TITLE=Ordeniederung 1:geo:7.3060344,52.6951211
END:VEVENT
END:VCALENDAR