BEGIN:VCALENDAR
VERSION:2.0
PRODID:-//Emsland GmbH - ECPv6.15.18//NONSGML v1.0//EN
CALSCALE:GREGORIAN
METHOD:PUBLISH
X-ORIGINAL-URL:https://emslandgmbh.de
X-WR-CALDESC:Veranstaltungen für Emsland GmbH
REFRESH-INTERVAL;VALUE=DURATION:PT1H
X-Robots-Tag:noindex
X-PUBLISHED-TTL:PT1H
BEGIN:VTIMEZONE
TZID:Europe/Paris
BEGIN:DAYLIGHT
TZOFFSETFROM:+0100
TZOFFSETTO:+0200
TZNAME:CEST
DTSTART:20250330T010000
END:DAYLIGHT
BEGIN:STANDARD
TZOFFSETFROM:+0200
TZOFFSETTO:+0100
TZNAME:CET
DTSTART:20251026T010000
END:STANDARD
BEGIN:DAYLIGHT
TZOFFSETFROM:+0100
TZOFFSETTO:+0200
TZNAME:CEST
DTSTART:20260329T010000
END:DAYLIGHT
BEGIN:STANDARD
TZOFFSETFROM:+0200
TZOFFSETTO:+0100
TZNAME:CET
DTSTART:20261025T010000
END:STANDARD
BEGIN:DAYLIGHT
TZOFFSETFROM:+0100
TZOFFSETTO:+0200
TZNAME:CEST
DTSTART:20270328T010000
END:DAYLIGHT
BEGIN:STANDARD
TZOFFSETFROM:+0200
TZOFFSETTO:+0100
TZNAME:CET
DTSTART:20271031T010000
END:STANDARD
END:VTIMEZONE
BEGIN:VTIMEZONE
TZID:Europe/Berlin
BEGIN:DAYLIGHT
TZOFFSETFROM:+0100
TZOFFSETTO:+0200
TZNAME:CEST
DTSTART:20250330T010000
END:DAYLIGHT
BEGIN:STANDARD
TZOFFSETFROM:+0200
TZOFFSETTO:+0100
TZNAME:CET
DTSTART:20251026T010000
END:STANDARD
BEGIN:DAYLIGHT
TZOFFSETFROM:+0100
TZOFFSETTO:+0200
TZNAME:CEST
DTSTART:20260329T010000
END:DAYLIGHT
BEGIN:STANDARD
TZOFFSETFROM:+0200
TZOFFSETTO:+0100
TZNAME:CET
DTSTART:20261025T010000
END:STANDARD
BEGIN:DAYLIGHT
TZOFFSETFROM:+0100
TZOFFSETTO:+0200
TZNAME:CEST
DTSTART:20270328T010000
END:DAYLIGHT
BEGIN:STANDARD
TZOFFSETFROM:+0200
TZOFFSETTO:+0100
TZNAME:CET
DTSTART:20271031T010000
END:STANDARD
END:VTIMEZONE
BEGIN:VEVENT
DTSTART;TZID=Europe/Paris:20261104T173000
DTEND;TZID=Europe/Paris:20261104T213000
DTSTAMP:20260422T123345
CREATED:20251210T121658Z
LAST-MODIFIED:20251210T121658Z
UID:10000522-1793813400-1793827800@emslandgmbh.de
SUMMARY:Nebenberuflich starten: Von der Idee zum eigenen Business
DESCRIPTION:Der nebenberufliche Einstieg in die Selbstständigkeit gewinnt zunehmend an Bedeutung. Jedes zweite Unternehmen wird heute zunächst im Nebenerwerb gegründet. Im Vorfeld ist es wichtig\, sich mit den rechtlichen Rahmenbedingungen auseinander zu setzen. Wir helfen Ihnen dabei. \nFolgende Kursinhalte sind insbesondere geplant:\n– Wege in die nebenberufliche Selbstständigkeit\n– Beratungsmöglichkeiten\n– Finanz- und Steuerplanung anhand von praktischen Beispielen zu steuerrechtlichen Auswirkungen\n– und vieles mehr \nGebühr: 25€ \nDieser Kurs wird in Kooperation mit der Stadt Lingen\, Fachdienst Wirtschaftsförderung angeboten.\nKontakt: Caroline Ohmann; Tel.: 0591 9144-808; E-Mail: (c.ohmann@lingen.de) \nZur Anmeldung
URL:https://emslandgmbh.de/event/nebenberuflich-starten-von-der-idee-zum-eigenen-business/2026-11-04/
LOCATION:Bildungszentrum Gebrüder-Grimm\, Elsterstraße 1\, Lingen (Ems)\, 49808
CATEGORIES:Seminar
ATTACH;FMTTYPE=image/jpeg:https://emslandgmbh.de/wp-content/uploads/2024/09/VHS-Lingen-gross.jpg
GEO:52.5317962;7.3277017
X-APPLE-STRUCTURED-LOCATION;VALUE=URI;X-ADDRESS=Bildungszentrum Gebrüder-Grimm Elsterstraße 1 Lingen (Ems) 49808;X-APPLE-RADIUS=500;X-TITLE=Elsterstraße 1:geo:7.3277017,52.5317962
END:VEVENT
BEGIN:VEVENT
DTSTART;TZID=Europe/Paris:20261104T180000
DTEND;TZID=Europe/Paris:20261104T193000
DTSTAMP:20260422T123345
CREATED:20251211T110930Z
LAST-MODIFIED:20260326T111529Z
UID:10000545-1793815200-1793820600@emslandgmbh.de
SUMMARY:Der Weg in die Selbständigkeit - Ein Überblick
DESCRIPTION:Wie sehen die ersten Gründungsschritte aus? Gibt es einen „roten Faden“ für den Gründungsablauf? \nWenn Sie eine Existenzgründung planen und sich über den Weg in die Selbständigkeit einen Überblick verschaffen wollen\, ist unsere Info-Veranstaltung das Richtige für Sie. Sie erhalten hier erstes Basiswissen für Ihre gewerbliche oder freiberufliche Unternehmensgründung. \nWir geben Ihnen Orientierung\, Tipps und Hinweise\, worauf Sie auf dem Weg in die Selbständigkeit achten sollten. Sie erfahren\, wie eine sinnvolle Planung Schritt für Schritt aussieht\, wer Ihnen im Emsland Unterstützung bietet und wie es weitergeht. \nVeranstaltungsformat:\nDie kostenfreie Info-Veranstaltung wird mit der Software Microsoft Teams durchgeführt. Eine Softewareinstallation ist nicht erforderlich\, das Webseminar erfolgt über einen aktuellen Webbrowser. Sie erhalten kurz vor dem Veranstaltungstag eine Mail mit dem notwendigen Anmeldelink. Dialog und Fragestellung sind möglich.\nWer teilnehmen möchte\, braucht Computer/Laptop/Tablet oder Smartphone mit Kamera\, Ton und Internet. Je größer der Bildschirm\, desto komfortabler können Sie der Präsentation folgen. \nHinweis: \nTeilnehmende dieses Seminars erhalten einen attraktiven Rabatt in Höhe von jeweils 50 Euro für die Folgeseminare der Emsland GmbH: \n\nExistenzgründungs-Intensiv-Seminar mit persönlichem Coaching\nEinfache Buchführung – Einnahmen-Überschuss-Rechnung
URL:https://emslandgmbh.de/event/der-weg-in-die-selbstaendigkeit-ein-ueberblick-17/
LOCATION:Online
CATEGORIES:Existenzgründung,Online-Seminar
ATTACH;FMTTYPE=image/jpeg:https://emslandgmbh.de/wp-content/uploads/2024/09/2_Der-Weg-in-die-Selbstaendigkeit.jpg
ORGANIZER;CN="Emsland GmbH":MAILTO:emslandgmbh@emsland.de
END:VEVENT
BEGIN:VEVENT
DTSTART;TZID=Europe/Berlin:20261105T140000
DTEND;TZID=Europe/Berlin:20261105T170000
DTSTAMP:20260422T123345
CREATED:20251210T075625Z
LAST-MODIFIED:20251210T101658Z
UID:10000489-1793887200-1793898000@emslandgmbh.de
SUMMARY:Rechtsanwaltssprechtag in Lingen
DESCRIPTION:Im IHK-Büro in Lingen erhalten Existenzgründer eine juristische Erstberatung durch einen von der Rechtsanwaltskammer benannten Experten.\n\nDie Beratung ist kostenlos\, es wird jedoch ein Pfandgeld in Höhe von 25 Euro erhoben\, welches die Teilnehmer nach dem Beratungstermin zurückerhalten. Um Anmeldung wird gebeten\, da die Beratungen in vertraulichen Einzelgesprächen (jeweils ca. 45 Minuten) erfolgen.\n\nDie Anmeldung erfolgt hier über die IHK Osnabrück – Emsland – Grafschaft Bentheim.\nKontakt: Andrea Duhme\, Telefon: 0541 353 327\, E-Mail: duhme@osnabrueck.ihk.de\nAnmeldung
URL:https://emslandgmbh.de/event/rechtsanwaltssprechtage-in-lingen/2026-11-05/
LOCATION:IHK-Büro Lingen\, Kaiserstraße 10b\, Lingen (Ems)\, Niedersachsen\, 49809\, Germany
CATEGORIES:Beratung,ELKONET,EXEL,Existenzgründung,NEU
ATTACH;FMTTYPE=image/jpeg:https://emslandgmbh.de/wp-content/uploads/2024/09/Logo-IHK-800x600px.jpg
GEO:52.5193652;7.3228099
X-APPLE-STRUCTURED-LOCATION;VALUE=URI;X-ADDRESS=IHK-Büro Lingen Kaiserstraße 10b Lingen (Ems) Niedersachsen 49809 Germany;X-APPLE-RADIUS=500;X-TITLE=Kaiserstraße 10b:geo:7.3228099,52.5193652
END:VEVENT
BEGIN:VEVENT
DTSTART;TZID=Europe/Paris:20261111T140000
DTEND;TZID=Europe/Paris:20261111T170000
DTSTAMP:20260422T123345
CREATED:20241008T115819Z
LAST-MODIFIED:20251210T094826Z
UID:10000504-1794405600-1794416400@emslandgmbh.de
SUMMARY:Erfinder- und Patentberatung
DESCRIPTION:Sie haben eine technische Erfindung gemacht\, wissen aber nicht genau\, wie Sie dieses Wissen schützen lassen können? Die IHK bietet eine monatliche Erfinder- und Patentberatung in Osnabrück sowie jeweils zwei Beratungen in Lingen und Nordhorn an. In einem vertraulichen Einzelgespräch können Sie Ihre Erfindung einem ehrenamtlich für die IHK tätigen Patentanwalt vorstellen und erhalten erste Hinweise\, ob und wie sich diese Erfindung schützen lässt. Die Erfinder- und Patentberatung ist kostenlos\, allerdings erheben wir ein Pfandgeld in Höhe von 25 EUR. Sie bekommen dieses Pfand bei dem Beratungstermin zurück.\n\nEine Terminvereinbarung ist notwendig.\n\nDie Anmeldung erfolgt hier  über die IHK Osnabrück – Emsland – Grafschaft Bentheim.\nKontakt: Ruth Sundag\, Telefon: 0541 353 268\, E-Mail: sundag@osnabrueck.ihk.de\nZur Anmeldung
URL:https://emslandgmbh.de/event/erfinder-und-patentberatung/2026-11-11/
LOCATION:IHK-Büro Lingen\, Kaiserstraße 10b\, Lingen (Ems)\, Niedersachsen\, 49809\, Germany
CATEGORIES:Beratung,ELKONET,EXEL,Existenzgründung,NEU
ATTACH;FMTTYPE=image/jpeg:https://emslandgmbh.de/wp-content/uploads/2024/09/Logo-IHK-800x600px.jpg
GEO:52.5193652;7.3228099
X-APPLE-STRUCTURED-LOCATION;VALUE=URI;X-ADDRESS=IHK-Büro Lingen Kaiserstraße 10b Lingen (Ems) Niedersachsen 49809 Germany;X-APPLE-RADIUS=500;X-TITLE=Kaiserstraße 10b:geo:7.3228099,52.5193652
END:VEVENT
BEGIN:VEVENT
DTSTART;TZID=Europe/Paris:20261112T140000
DTEND;TZID=Europe/Paris:20261112T170000
DTSTAMP:20260422T123345
CREATED:20260324T065635Z
LAST-MODIFIED:20260324T065635Z
UID:10000601-1794492000-1794502800@emslandgmbh.de
SUMMARY:Steuerberatersprechtag in Lingen
DESCRIPTION:Existenzgründer werden bei der Aufnahme ihrer Geschäftstätigkeit mit einer Reihe von Steuerfragen konfrontiert. Sie benötigen Informationen darüber\, was bei Umsatzsteuer\, Gewerbesteuer\, Einkommenssteuer der Körperschaftssteuer im Einzelnen zu beachten ist.\n\nInteressenten sollen sich bereits vor der Beratung mit den Broschüren Steuertipps und Starthilfe über steuerliche Grundlagen informieren. Auf diese Weise kann das Gespräch für detaillierte Fragen genutzt werden. Die Beratung ist kostenlos\, allerdings erheben wir ein Pfandgeld in Höhe von 25 EUR\, das Sie nach dem Beratungstermin zurückbekommen. Da die Beratungen in vertraulichen Einzelgesprächen (jeweils ca. 45 Minuten) erfolgen\, ist eine vorherige Anmeldung notwendig.\n\nDie Anmeldung erfolgt hier über die IHK Osnabrück – Emsland -Grafschaft Bentheim.\nKontakt: Andrea Duhme\, Telefon: 0541 353 327\, E-Mail: duhme@osnabrueck.ihk.de\nZur Anmeldung
URL:https://emslandgmbh.de/event/steuerberatersprechtag-in-lingen-3/2026-11-12/
LOCATION:IT-Zentrum Lingen\, Kaiserstraße 10b\, Lingen (Ems)\, 49809
CATEGORIES:Beratung,ELKONET,EXEL,Existenzgründung,NEU
ATTACH;FMTTYPE=image/jpeg:https://emslandgmbh.de/wp-content/uploads/2024/09/Logo-IHK-800x600px.jpg
GEO:52.5193652;7.3228099
X-APPLE-STRUCTURED-LOCATION;VALUE=URI;X-ADDRESS=IT-Zentrum Lingen Kaiserstraße 10b Lingen (Ems) 49809;X-APPLE-RADIUS=500;X-TITLE=Kaiserstraße 10b:geo:7.3228099,52.5193652
END:VEVENT
BEGIN:VEVENT
DTSTART;TZID=Europe/Paris:20261119T163000
DTEND;TZID=Europe/Paris:20261119T190000
DTSTAMP:20260422T123345
CREATED:20260422T072001Z
LAST-MODIFIED:20260422T072001Z
UID:10000604-1795105800-1795114800@emslandgmbh.de
SUMMARY:EXEL Existenzgründungstag 2026
DESCRIPTION:Infomarkt\, Vortrag\,  Emsländische Erfolgsstories\, Persönliche Beratung \nDer Existenzgründertag 2026 bietet Gründenden und jungen Unternehmen Gelegenheit\, auf viele Fragen Antworten zu finden. \nTreffen Sie auf dieser im Emsland einmaligen Veranstaltung wichtige Ansprechpartner für die Selbständigkeit und erfahren Sie von jungen Unternehmern aus dem Emsland\, wie sie den Schritt in die Selbständigkeit gemeistert haben. \nProgramm \n\nKeynote \nTalkrunde „Emsländische Erfolgsstories“: Unternehmerinnen und Unternehmer erzählen ihre Geschichte und geben Tipps für einen erfolgreichen Start.\nInfostände und Beratungen vor Ort durch die Mitglieder der Existenzgründungsinitiative Emsland\n\nDie Veranstaltung ist kostenlos – um Anmeldung wird gebeten.
URL:https://emslandgmbh.de/event/exel-existenzgruendungstag-2026/
CATEGORIES:Beratung,ELKONET,EXEL,Existenzgründung,NEU,Veranstaltung
ATTACH;FMTTYPE=image/heic:https://emslandgmbh.de/wp-content/uploads/2024/10/20251119_163512871_iOS-scaled.jpg
END:VEVENT
END:VCALENDAR