BEGIN:VCALENDAR
VERSION:2.0
PRODID:-//Emsland GmbH - ECPv6.15.18//NONSGML v1.0//EN
CALSCALE:GREGORIAN
METHOD:PUBLISH
X-WR-CALNAME:Emsland GmbH
X-ORIGINAL-URL:https://emslandgmbh.de
X-WR-CALDESC:Veranstaltungen für Emsland GmbH
REFRESH-INTERVAL;VALUE=DURATION:PT1H
X-Robots-Tag:noindex
X-PUBLISHED-TTL:PT1H
BEGIN:VTIMEZONE
TZID:Europe/Paris
BEGIN:DAYLIGHT
TZOFFSETFROM:+0100
TZOFFSETTO:+0200
TZNAME:CEST
DTSTART:20250330T010000
END:DAYLIGHT
BEGIN:STANDARD
TZOFFSETFROM:+0200
TZOFFSETTO:+0100
TZNAME:CET
DTSTART:20251026T010000
END:STANDARD
BEGIN:DAYLIGHT
TZOFFSETFROM:+0100
TZOFFSETTO:+0200
TZNAME:CEST
DTSTART:20260329T010000
END:DAYLIGHT
BEGIN:STANDARD
TZOFFSETFROM:+0200
TZOFFSETTO:+0100
TZNAME:CET
DTSTART:20261025T010000
END:STANDARD
BEGIN:DAYLIGHT
TZOFFSETFROM:+0100
TZOFFSETTO:+0200
TZNAME:CEST
DTSTART:20270328T010000
END:DAYLIGHT
BEGIN:STANDARD
TZOFFSETFROM:+0200
TZOFFSETTO:+0100
TZNAME:CET
DTSTART:20271031T010000
END:STANDARD
END:VTIMEZONE
BEGIN:VTIMEZONE
TZID:Europe/Berlin
BEGIN:DAYLIGHT
TZOFFSETFROM:+0100
TZOFFSETTO:+0200
TZNAME:CEST
DTSTART:20250330T010000
END:DAYLIGHT
BEGIN:STANDARD
TZOFFSETFROM:+0200
TZOFFSETTO:+0100
TZNAME:CET
DTSTART:20251026T010000
END:STANDARD
BEGIN:DAYLIGHT
TZOFFSETFROM:+0100
TZOFFSETTO:+0200
TZNAME:CEST
DTSTART:20260329T010000
END:DAYLIGHT
BEGIN:STANDARD
TZOFFSETFROM:+0200
TZOFFSETTO:+0100
TZNAME:CET
DTSTART:20261025T010000
END:STANDARD
BEGIN:DAYLIGHT
TZOFFSETFROM:+0100
TZOFFSETTO:+0200
TZNAME:CEST
DTSTART:20270328T010000
END:DAYLIGHT
BEGIN:STANDARD
TZOFFSETFROM:+0200
TZOFFSETTO:+0100
TZNAME:CET
DTSTART:20271031T010000
END:STANDARD
END:VTIMEZONE
BEGIN:VEVENT
DTSTART;TZID=Europe/Paris:20260506T140000
DTEND;TZID=Europe/Paris:20260506T170000
DTSTAMP:20260422T024644
CREATED:20241008T115819Z
LAST-MODIFIED:20251210T094826Z
UID:10000505-1778076000-1778086800@emslandgmbh.de
SUMMARY:Erfinder- und Patentberatung
DESCRIPTION:Sie haben eine technische Erfindung gemacht\, wissen aber nicht genau\, wie Sie dieses Wissen schützen lassen können? Die IHK bietet eine monatliche Erfinder- und Patentberatung in Osnabrück sowie jeweils zwei Beratungen in Lingen und Nordhorn an. In einem vertraulichen Einzelgespräch können Sie Ihre Erfindung einem ehrenamtlich für die IHK tätigen Patentanwalt vorstellen und erhalten erste Hinweise\, ob und wie sich diese Erfindung schützen lässt. Die Erfinder- und Patentberatung ist kostenlos\, allerdings erheben wir ein Pfandgeld in Höhe von 25 EUR. Sie bekommen dieses Pfand bei dem Beratungstermin zurück.\n\nEine Terminvereinbarung ist notwendig.\n\nDie Anmeldung erfolgt hier  über die IHK Osnabrück – Emsland – Grafschaft Bentheim.\nKontakt: Ruth Sundag\, Telefon: 0541 353 268\, E-Mail: sundag@osnabrueck.ihk.de\nZur Anmeldung
URL:https://emslandgmbh.de/event/erfinder-und-patentberatung/2026-05-06/
LOCATION:IHK-Büro Lingen\, Kaiserstraße 10b\, Lingen (Ems)\, Niedersachsen\, 49809\, Germany
CATEGORIES:Beratung,ELKONET,EXEL,Existenzgründung,NEU
ATTACH;FMTTYPE=image/jpeg:https://emslandgmbh.de/wp-content/uploads/2024/09/Logo-IHK-800x600px.jpg
GEO:52.5193652;7.3228099
X-APPLE-STRUCTURED-LOCATION;VALUE=URI;X-ADDRESS=IHK-Büro Lingen Kaiserstraße 10b Lingen (Ems) Niedersachsen 49809 Germany;X-APPLE-RADIUS=500;X-TITLE=Kaiserstraße 10b:geo:7.3228099,52.5193652
END:VEVENT
BEGIN:VEVENT
DTSTART;TZID=Europe/Berlin:20260507T140000
DTEND;TZID=Europe/Berlin:20260507T170000
DTSTAMP:20260422T024644
CREATED:20251210T075625Z
LAST-MODIFIED:20251210T101658Z
UID:10000487-1778162400-1778173200@emslandgmbh.de
SUMMARY:Rechtsanwaltssprechtag in Lingen
DESCRIPTION:Im IHK-Büro in Lingen erhalten Existenzgründer eine juristische Erstberatung durch einen von der Rechtsanwaltskammer benannten Experten.\n\nDie Beratung ist kostenlos\, es wird jedoch ein Pfandgeld in Höhe von 25 Euro erhoben\, welches die Teilnehmer nach dem Beratungstermin zurückerhalten. Um Anmeldung wird gebeten\, da die Beratungen in vertraulichen Einzelgesprächen (jeweils ca. 45 Minuten) erfolgen.\n\nDie Anmeldung erfolgt hier über die IHK Osnabrück – Emsland – Grafschaft Bentheim.\nKontakt: Andrea Duhme\, Telefon: 0541 353 327\, E-Mail: duhme@osnabrueck.ihk.de\nAnmeldung
URL:https://emslandgmbh.de/event/rechtsanwaltssprechtage-in-lingen/2026-05-07/
LOCATION:IHK-Büro Lingen\, Kaiserstraße 10b\, Lingen (Ems)\, Niedersachsen\, 49809\, Germany
CATEGORIES:Beratung,ELKONET,EXEL,Existenzgründung,NEU
ATTACH;FMTTYPE=image/jpeg:https://emslandgmbh.de/wp-content/uploads/2024/09/Logo-IHK-800x600px.jpg
GEO:52.5193652;7.3228099
X-APPLE-STRUCTURED-LOCATION;VALUE=URI;X-ADDRESS=IHK-Büro Lingen Kaiserstraße 10b Lingen (Ems) Niedersachsen 49809 Germany;X-APPLE-RADIUS=500;X-TITLE=Kaiserstraße 10b:geo:7.3228099,52.5193652
END:VEVENT
BEGIN:VEVENT
DTSTART;TZID=Europe/Paris:20260521T140000
DTEND;TZID=Europe/Paris:20260521T170000
DTSTAMP:20260422T024644
CREATED:20260324T065635Z
LAST-MODIFIED:20260324T065635Z
UID:10000599-1779372000-1779382800@emslandgmbh.de
SUMMARY:Steuerberatersprechtag in Lingen
DESCRIPTION:Existenzgründer werden bei der Aufnahme ihrer Geschäftstätigkeit mit einer Reihe von Steuerfragen konfrontiert. Sie benötigen Informationen darüber\, was bei Umsatzsteuer\, Gewerbesteuer\, Einkommenssteuer der Körperschaftssteuer im Einzelnen zu beachten ist.\n\nInteressenten sollen sich bereits vor der Beratung mit den Broschüren Steuertipps und Starthilfe über steuerliche Grundlagen informieren. Auf diese Weise kann das Gespräch für detaillierte Fragen genutzt werden. Die Beratung ist kostenlos\, allerdings erheben wir ein Pfandgeld in Höhe von 25 EUR\, das Sie nach dem Beratungstermin zurückbekommen. Da die Beratungen in vertraulichen Einzelgesprächen (jeweils ca. 45 Minuten) erfolgen\, ist eine vorherige Anmeldung notwendig.\n\nDie Anmeldung erfolgt hier über die IHK Osnabrück – Emsland -Grafschaft Bentheim.\nKontakt: Andrea Duhme\, Telefon: 0541 353 327\, E-Mail: duhme@osnabrueck.ihk.de\nZur Anmeldung
URL:https://emslandgmbh.de/event/steuerberatersprechtag-in-lingen-3/2026-05-21/
LOCATION:IT-Zentrum Lingen\, Kaiserstraße 10b\, Lingen (Ems)\, 49809
CATEGORIES:Beratung,ELKONET,EXEL,Existenzgründung,NEU
ATTACH;FMTTYPE=image/jpeg:https://emslandgmbh.de/wp-content/uploads/2024/09/Logo-IHK-800x600px.jpg
GEO:52.5193652;7.3228099
X-APPLE-STRUCTURED-LOCATION;VALUE=URI;X-ADDRESS=IT-Zentrum Lingen Kaiserstraße 10b Lingen (Ems) 49809;X-APPLE-RADIUS=500;X-TITLE=Kaiserstraße 10b:geo:7.3228099,52.5193652
END:VEVENT
BEGIN:VEVENT
DTSTART;TZID=Europe/Paris:20260527T180000
DTEND;TZID=Europe/Paris:20260527T193000
DTSTAMP:20260422T024644
CREATED:20251211T110046Z
LAST-MODIFIED:20260326T105818Z
UID:10000539-1779904800-1779910200@emslandgmbh.de
SUMMARY:Der Weg in die Selbständigkeit - Ein Überblick
DESCRIPTION:Wie sehen die ersten Gründungsschritte aus? Gibt es einen „roten Faden“ für den Gründungsablauf? \nWenn Sie eine Existenzgründung planen und sich über den Weg in die Selbständigkeit einen Überblick verschaffen wollen\, ist unsere Info-Veranstaltung das Richtige für Sie. Sie erhalten hier erstes Basiswissen für Ihre gewerbliche oder freiberufliche Unternehmensgründung. \nWir geben Ihnen Orientierung\, Tipps und Hinweise\, worauf Sie auf dem Weg in die Selbständigkeit achten sollten. Sie erfahren\, wie eine sinnvolle Planung Schritt für Schritt aussieht\, wer Ihnen im Emsland Unterstützung bietet und wie es weitergeht. \nVeranstaltungsformat:\nDie kostenfreie Info-Veranstaltung wird mit der Software Microsoft Teams durchgeführt. Eine Softewareinstallation ist nicht erforderlich\, das Webseminar erfolgt über einen aktuellen Webbrowser. Sie erhalten kurz vor dem Veranstaltungstag eine Mail mit dem notwendigen Anmeldelink. Dialog und Fragestellung sind möglich.\nWer teilnehmen möchte\, braucht Computer/Laptop/Tablet oder Smartphone mit Kamera\, Ton und Internet. Je größer der Bildschirm\, desto komfortabler können Sie der Präsentation folgen. \nHinweis: \nTeilnehmende dieses Seminars erhalten einen attraktiven Rabatt in Höhe von jeweils 50 Euro für die Folgeseminare der Emsland GmbH: \n\nExistenzgründungs-Intensiv-Seminar mit persönlichem Coaching\nEinfache Buchführung – Einnahmen-Überschuss-Rechnung
URL:https://emslandgmbh.de/event/der-weg-in-die-selbstaendigkeit-ein-ueberblick-11/
LOCATION:Online
CATEGORIES:Existenzgründung,Online-Seminar
ATTACH;FMTTYPE=image/jpeg:https://emslandgmbh.de/wp-content/uploads/2024/09/2_Der-Weg-in-die-Selbstaendigkeit.jpg
ORGANIZER;CN="Emsland GmbH":MAILTO:emslandgmbh@emsland.de
END:VEVENT
BEGIN:VEVENT
DTSTART;VALUE=DATE:20260529
DTEND;VALUE=DATE:20260601
DTSTAMP:20260422T024644
CREATED:20251210T113224Z
LAST-MODIFIED:20251210T113224Z
UID:10000510-1780012800-1780271999@emslandgmbh.de
SUMMARY:Workshop Einfache Buchführung - Einnahmen-Überschuss-Rechnung
DESCRIPTION:Fast alle Existenzgründer und jungen Unternehmen praktizieren die „Einfache Buchführung“\, d.h. die Aufzeichnung und Gegenüberstellung von Einnahmen und Ausgaben des Betriebes. Daraus ergibt sich der Jahresabschluss der nicht buchführungspflichtigen Unternehmer\, die Einnahmen-Überschuss-Rechnung. \nDieser praxisbezogene Workshop soll Sie in die Lage versetzen\, die einfache Buchführung und daraus resultierend die Einnahmen-Überschuss-Rechnung selbst erstellen zu können. Zudem wird das Verständnis für die Zusammenhänge geschult. \nUhrzeiten: 09:00 – 17:00 Uhr \nTeil 1: Kompakter theoretischer Überblick:\ngesetzliche Grundlagen der Buchführung\nBetriebseinnahmen und -ausgaben\nAbschreibungen\nBelegwesen\nMahnwesen\nUmsatzsteueranmeldungen \nTeil 2: Praxisbezogene Erläuterung \nAnhand von Geschäftsvorfällen eines fiktiven Unternehmens erlernen und üben die Teilnehmer über einen „Zeitraum von drei Monaten“ das Führen von Kassenbuch\, Bankverzeichnis\, Anlagekarten\, GWG-Verzeichnissen etc. Auf dieser Basis erfolgt die Erstellung von monatlichen Abschlüssen\, einschließlich der Umsatzsteuer-Voranmeldungen und des „Jahresabschlusses“\, der Einnahmen-Überschuss-Rechnung nach amtlichem Formular. \nSie erhalten neben Seminarunterlagen ein Teilnahmezertifikat\, das Sie beispielsweise bei der Agentur für Arbeit oder Banken vorlegen können. \nBisher haben an diesem Seminar hunderte Existenzgründende teilgenommen und wir freuen uns\, dass die Beurteilungen immer sehr positiv waren. \nEinige Teilnehmer-Stimmen: \n\,\,Die Art und Weise des Seminars hat mir gut gefallen\, besonders die Freundlichkeit des Seminarleiters. Man fühlt sich direkt von Anfang an in guten Händen und sehr wohl.“ \n\,\,Die lockere Atmosphäre und das Format\, in dem das trockene Thema gut vermittelt wurde\, hat mir gut gefallen.“ \n\,\,Der Ablauf: erst Theorie dann praktisch Arbeiten Die Art und Weise des Dozenten\, Humor\, Geduld\, ruhige Art\, klare Antworten die Gruppengröße haben mir besonders gut gefallen.“ \nHinweis:\nTeilnehmende des monatlich stattfindenden kostenlosen Online-Seminars „Der Weg\nin die Selbständigkeit – Ein Überblick“ erhalten einen Preisnachlass auf dieses\nSeminar von 50 Euro.
URL:https://emslandgmbh.de/event/workshop-einfache-buchfuehrung-einnahmen-ueberschuss-rechnung-4/
LOCATION:Landkreis Emsland\, Kreishaus I\, Ordeniederung 1\, Meppen\, 49716\, Germany
CATEGORIES:ELKONET,EXEL,Existenzgründung,NEU,Workshop
ATTACH;FMTTYPE=image/webp:https://emslandgmbh.de/wp-content/uploads/2024/09/Stuehle-von-unten_M0001083-korrigiert-scaled-1.webp
ORGANIZER;CN="Emsland GmbH":MAILTO:emslandgmbh@emsland.de
GEO:52.6951211;7.3060344
X-APPLE-STRUCTURED-LOCATION;VALUE=URI;X-ADDRESS=Landkreis Emsland Kreishaus I Ordeniederung 1 Meppen 49716 Germany;X-APPLE-RADIUS=500;X-TITLE=Ordeniederung 1:geo:7.3060344,52.6951211
END:VEVENT
END:VCALENDAR