BEGIN:VCALENDAR
VERSION:2.0
PRODID:-//Emsland GmbH - ECPv6.15.18//NONSGML v1.0//EN
CALSCALE:GREGORIAN
METHOD:PUBLISH
X-WR-CALNAME:Emsland GmbH
X-ORIGINAL-URL:https://emslandgmbh.de
X-WR-CALDESC:Veranstaltungen für Emsland GmbH
REFRESH-INTERVAL;VALUE=DURATION:PT1H
X-Robots-Tag:noindex
X-PUBLISHED-TTL:PT1H
BEGIN:VTIMEZONE
TZID:Europe/Paris
BEGIN:DAYLIGHT
TZOFFSETFROM:+0100
TZOFFSETTO:+0200
TZNAME:CEST
DTSTART:20240331T010000
END:DAYLIGHT
BEGIN:STANDARD
TZOFFSETFROM:+0200
TZOFFSETTO:+0100
TZNAME:CET
DTSTART:20241027T010000
END:STANDARD
BEGIN:DAYLIGHT
TZOFFSETFROM:+0100
TZOFFSETTO:+0200
TZNAME:CEST
DTSTART:20250330T010000
END:DAYLIGHT
BEGIN:STANDARD
TZOFFSETFROM:+0200
TZOFFSETTO:+0100
TZNAME:CET
DTSTART:20251026T010000
END:STANDARD
BEGIN:DAYLIGHT
TZOFFSETFROM:+0100
TZOFFSETTO:+0200
TZNAME:CEST
DTSTART:20260329T010000
END:DAYLIGHT
BEGIN:STANDARD
TZOFFSETFROM:+0200
TZOFFSETTO:+0100
TZNAME:CET
DTSTART:20261025T010000
END:STANDARD
END:VTIMEZONE
BEGIN:VEVENT
DTSTART;TZID=Europe/Paris:20250311T180000
DTEND;TZID=Europe/Paris:20250311T200000
DTSTAMP:20260423T211013
CREATED:20250131T115154Z
LAST-MODIFIED:20250211T121037Z
UID:10000302-1741716000-1741723200@emslandgmbh.de
SUMMARY:Von der Idee zum Erfolg: Finanzieren Sie Ihre Nachfolge\, Gründung und Investitionen richtig!
DESCRIPTION:Bei dieser kostenfreien Veranstaltung geht es um zentrale Fragen der Finanzierung von Betriebsnachfolgen\, Existenzgründungen und späteren Investitionen. \nErleben Sie einen interaktiven Vortrag von Finanzierungsexperten\, die Ihnen praxisnahe Informationen und wertvolle Tipps zu folgenden Themen geben: \n\nWie finanziere ich den Einstieg in ein bestehendes Unternehmen?\nWas gehört zu einem erfolgreichen Businessplan?\nWelche Fördermöglichkeiten gibt es für Existenzgründungen?\nWie plane ich zukünftige Investitionen nachhaltig und sicher?\n\nNeben spannenden Impulsen aus der Praxis haben Sie die Möglichkeit\, Ihre individuellen Fragen zu stellen und sich mit anderen Teilnehmenden auszutauschen. \nReferent:     Steffen Benjak\, Sparkasse Emsland Firmenkundenberater \nDie Teilnahme ist kostenfrei\, eine Anmeldung ist jedoch erforderlich\, da die Plätze begrenzt sind. \nMelden Sie sich unter folgendem Link bei der Handwerkskammer an: \nhttps://forms.office.com/e/vbXrjrvMik
URL:https://emslandgmbh.de/event/von-der-idee-zum-erfolg-finanzieren-sie-ihre-nachfolge-gruendung-und-investitionen-richtig/
LOCATION:IT-Zentrum Lingen\, Kaiserstraße 10b\, Lingen (Ems)\, 49809
CATEGORIES:EXEL,Vortrag
ATTACH;FMTTYPE=image/jpeg:https://emslandgmbh.de/wp-content/uploads/2025/01/20250204_094956.jpg
GEO:52.5193652;7.3228099
X-APPLE-STRUCTURED-LOCATION;VALUE=URI;X-ADDRESS=IT-Zentrum Lingen Kaiserstraße 10b Lingen (Ems) 49809;X-APPLE-RADIUS=500;X-TITLE=Kaiserstraße 10b:geo:7.3228099,52.5193652
END:VEVENT
BEGIN:VEVENT
DTSTART;VALUE=DATE:20250314
DTEND;VALUE=DATE:20250317
DTSTAMP:20260423T211013
CREATED:20241119T101742Z
LAST-MODIFIED:20241119T101742Z
UID:10000250-1741910400-1742169599@emslandgmbh.de
SUMMARY:Workshop Einfach Buchführung - Einnahmen-Überschuss-Rechnung
DESCRIPTION:Fast alle Existenzgründer und jungen Unternehmen praktizieren die „Einfache Buchführung“\, d.h. die Aufzeichnung und Gegenüberstellung von Einnahmen und Ausgaben des Betriebes. Daraus ergibt sich der Jahresabschluss der nicht buchführungspflichtigen Unternehmer\, die Einnahmen-Überschuss-Rechnung. \nDieser praxisbezogene Workshop soll Sie in die Lage versetzen\, die einfache Buchführung und daraus resultierend die Einnahmen-Überschuss-Rechnung selbst erstellen zu können. Zudem wird das Verständnis für die Zusammenhänge geschult. \nUhrzeiten: 09:00 – 17:00 Uhr \nTeil 1: Kompakter theoretischer Überblick:\ngesetzliche Grundlagen der Buchführung\nBetriebseinnahmen und -ausgaben\nAbschreibungen\nBelegwesen\nMahnwesen\nUmsatzsteueranmeldungen \nTeil 2: Praxisbezogene Erläuterung \nAnhand von Geschäftsvorfällen eines fiktiven Unternehmens erlernen und üben die Teilnehmer über einen „Zeitraum von drei Monaten“ das Führen von Kassenbuch\, Bankverzeichnis\, Anlagekarten\, GWG-Verzeichnissen etc. Auf dieser Basis erfolgt die Erstellung von monatlichen Abschlüssen\, einschließlich der Umsatzsteuer-Voranmeldungen und des „Jahresabschlusses“\, der Einnahmen-Überschuss-Rechnung nach amtlichem Formular. \nHinweis:\nTeilnehmende des monatlich stattfindenden kostenlosen Online-Seminars „Der Weg\nin die Selbständigkeit – Ein Überblick“ erhalten einen Preisnachlass auf dieses\nSeminar von 50 Euro.
URL:https://emslandgmbh.de/event/workshop-einfach-buchfuehrung-einnahmen-ueberschuss-rechnung-2/
LOCATION:Landkreis Emsland\, Kreishaus I\, Ordeniederung 1\, Meppen\, 49716\, Germany
CATEGORIES:ELKONET,EXEL,Existenzgründung,NEU,Workshop
ATTACH;FMTTYPE=image/webp:https://emslandgmbh.de/wp-content/uploads/2024/09/Stuehle-von-unten_M0001083-korrigiert-scaled-1.webp
ORGANIZER;CN="Emsland GmbH":MAILTO:emslandgmbh@emsland.de
GEO:52.6951211;7.3060344
X-APPLE-STRUCTURED-LOCATION;VALUE=URI;X-ADDRESS=Landkreis Emsland Kreishaus I Ordeniederung 1 Meppen 49716 Germany;X-APPLE-RADIUS=500;X-TITLE=Ordeniederung 1:geo:7.3060344,52.6951211
END:VEVENT
BEGIN:VEVENT
DTSTART;TZID=Europe/Paris:20250320T090000
DTEND;TZID=Europe/Paris:20250320T170000
DTSTAMP:20260423T211013
CREATED:20241107T072827Z
LAST-MODIFIED:20250409T074647Z
UID:10000340-1742461200-1742490000@emslandgmbh.de
SUMMARY:NBank Beratungstag Lingen
DESCRIPTION:An Existenzgründer\, Start-Ups und kleine und mittlere Unternehmen richtet sich der Finanzierungssprechtag\, zu dem die Existenzgründungsinitiative Emsland (EXEL) monatlich einlädt. Sie können in einem persönlichen\, vertraulichen Einzelgespräch Ihr Vorhaben mit einem Vertreter der Nbank Beratungsstelle Osnabrück diskutieren. \nSie erhalten dabei Informationen über das Förderangebot des Landes\, des Bundes und der Region\, z. B. über Investitionsfinanzierung\, Existenzgründungsfinanzierung und Coachingprogramme für Gründer. \nDarüber hinaus werden sie informiert\, ob und wie ihr Vorhaben mit öffentlichen Finanzierungshilfen unterstützt werden kann\, wie der Antragsweg ist und welche Unterlagen erforderlich sind. \nDie Beratung ist kostenfrei.\nDie Terminvergabe erfolgt durch die Emsland GmbH. Bitte melden Sie sich telefonisch bei Mechthild Gerling (05931 4939 603) an. \nJetzt anrufen
URL:https://emslandgmbh.de/event/nbank-beratungstag-lingen-3/2025-03-20/
LOCATION:IHK-Büro Lingen\, Kaiserstraße 10b\, Lingen (Ems)\, Niedersachsen\, 49809\, Germany
CATEGORIES:Beratung
ATTACH;FMTTYPE=image/jpeg:https://emslandgmbh.de/wp-content/uploads/2024/11/2025_Steinbrink_Heiner-NBank-scaled.jpg
GEO:52.5193652;7.3228099
X-APPLE-STRUCTURED-LOCATION;VALUE=URI;X-ADDRESS=IHK-Büro Lingen Kaiserstraße 10b Lingen (Ems) Niedersachsen 49809 Germany;X-APPLE-RADIUS=500;X-TITLE=Kaiserstraße 10b:geo:7.3228099,52.5193652
END:VEVENT
END:VCALENDAR