BEGIN:VCALENDAR
VERSION:2.0
PRODID:-//Emsland GmbH - ECPv6.15.18//NONSGML v1.0//EN
CALSCALE:GREGORIAN
METHOD:PUBLISH
X-ORIGINAL-URL:https://emslandgmbh.de
X-WR-CALDESC:Veranstaltungen für Emsland GmbH
REFRESH-INTERVAL;VALUE=DURATION:PT1H
X-Robots-Tag:noindex
X-PUBLISHED-TTL:PT1H
BEGIN:VTIMEZONE
TZID:Europe/Paris
BEGIN:DAYLIGHT
TZOFFSETFROM:+0100
TZOFFSETTO:+0200
TZNAME:CEST
DTSTART:20230326T010000
END:DAYLIGHT
BEGIN:STANDARD
TZOFFSETFROM:+0200
TZOFFSETTO:+0100
TZNAME:CET
DTSTART:20231029T010000
END:STANDARD
BEGIN:DAYLIGHT
TZOFFSETFROM:+0100
TZOFFSETTO:+0200
TZNAME:CEST
DTSTART:20240331T010000
END:DAYLIGHT
BEGIN:STANDARD
TZOFFSETFROM:+0200
TZOFFSETTO:+0100
TZNAME:CET
DTSTART:20241027T010000
END:STANDARD
BEGIN:DAYLIGHT
TZOFFSETFROM:+0100
TZOFFSETTO:+0200
TZNAME:CEST
DTSTART:20250330T010000
END:DAYLIGHT
BEGIN:STANDARD
TZOFFSETFROM:+0200
TZOFFSETTO:+0100
TZNAME:CET
DTSTART:20251026T010000
END:STANDARD
END:VTIMEZONE
BEGIN:VEVENT
DTSTART;TZID=Europe/Paris:20241211T110000
DTEND;TZID=Europe/Paris:20241211T170000
DTSTAMP:20260424T015136
CREATED:20240926T112442Z
LAST-MODIFIED:20241017T132129Z
UID:10000116-1733914800-1733936400@emslandgmbh.de
SUMMARY:NBank Beratungstag Meppen
DESCRIPTION:An Existenzgründer\, Start-Ups und kleine und mittlere Unternehmen richtet sich der Finanzierungssprechtag\, zu dem die Existenzgründungsinitiative Emsland (EXEL) monatlich einlädt. Sie können in einem persönlichen\, vertraulichen Einzelgespräch Ihr Vorhaben mit einem Vertreter der Nbank Beratungsstelle Osnabrück diskutieren. \nSie erhalten dabei Informationen über das Förderangebot des Landes\, des Bundes und der Region\, z. B. über Investitionsfinanzierung\, Existenzgründungsfinanzierung und Coachingprogramme für Gründer. \nDarüber hinaus werden sie informiert\, ob und wie ihr Vorhaben mit öffentlichen Finanzierungshilfen unterstützt werden kann\, wie der Antragsweg ist und welche Unterlagen erforderlich sind. \nDie Beratung ist kostenfrei.\nDie Terminvergabe erfolgt durch die Emsland GmbH. Bitte melden Sie sich telefonisch bei Mechthild Gerling (05931 4939 603) an. \nJetzt anrufen
URL:https://emslandgmbh.de/event/nbank-beratungstag-meppen/
LOCATION:Landkreis Emsland\, Kreishaus I\, Ordeniederung 1\, Meppen\, 49716\, Germany
CATEGORIES:Beratung
ATTACH;FMTTYPE=image/webp:https://emslandgmbh.de/wp-content/uploads/2024/09/Foto_Heiner_Steinbrink_SW-e1713514470885.webp
GEO:52.6951211;7.3060344
X-APPLE-STRUCTURED-LOCATION;VALUE=URI;X-ADDRESS=Landkreis Emsland Kreishaus I Ordeniederung 1 Meppen 49716 Germany;X-APPLE-RADIUS=500;X-TITLE=Ordeniederung 1:geo:7.3060344,52.6951211
END:VEVENT
BEGIN:VEVENT
DTSTART;VALUE=DATE:20241213
DTEND;VALUE=DATE:20241216
DTSTAMP:20260424T015136
CREATED:20241009T053114Z
LAST-MODIFIED:20241119T100630Z
UID:10000156-1734048000-1734307199@emslandgmbh.de
SUMMARY:Workshop Einfach Buchführung - Einnahmen-Überschuss-Rechnung
DESCRIPTION:Fast alle Existenzgründer und jungen Unternehmen praktizieren die „Einfache Buchführung“\, d.h. die Aufzeichnung und Gegenüberstellung von Einnahmen und Ausgaben des Betriebes. Daraus ergibt sich der Jahresabschluss der nicht buchführungspflichtigen Unternehmer\, die Einnahmen-Überschuss-Rechnung. \nDieser praxisbezogene Workshop soll Sie in die Lage versetzen\, die einfache Buchführung und daraus resultierend die Einnahmen-Überschuss-Rechnung selbst erstellen zu können. Zudem wird das Verständnis für die Zusammenhänge geschult. \nUhrzeiten: 09:00 – 17:00 Uhr \nTeil 1: Kompakter theoretischer Überblick:\ngesetzliche Grundlagen der Buchführung\nBetriebseinnahmen und -ausgaben\nAbschreibungen\nBelegwesen\nMahnwesen\nUmsatzsteueranmeldungen \nTeil 2: Praxisbezogene Erläuterung \nAnhand von Geschäftsvorfällen eines fiktiven Unternehmens erlernen und üben die Teilnehmer über einen „Zeitraum von drei Monaten“ das Führen von Kassenbuch\, Bankverzeichnis\, Anlagekarten\, GWG-Verzeichnissen etc. Auf dieser Basis erfolgt die Erstellung von monatlichen Abschlüssen\, einschließlich der Umsatzsteuer-Voranmeldungen und des „Jahresabschlusses“\, der Einnahmen-Überschuss-Rechnung nach amtlichem Formular. \nHinweis:\nTeilnehmende des monatlich stattfindenden kostenlosen Online-Seminars „Der Weg\nin die Selbständigkeit – Ein Überblick“ erhalten einen Preisnachlass auf dieses\nSeminar von 50 Euro.
URL:https://emslandgmbh.de/event/workshop-einfach-buchfuehrung-einnahmen-ueberschuss-rechnung/
LOCATION:Landkreis Emsland\, Kreishaus I\, Ordeniederung 1\, Meppen\, 49716\, Germany
CATEGORIES:ELKONET,EXEL,Existenzgründung,NEU,Workshop
ATTACH;FMTTYPE=image/webp:https://emslandgmbh.de/wp-content/uploads/2024/09/Stuehle-von-unten_M0001083-korrigiert-scaled-1.webp
ORGANIZER;CN="Emsland GmbH":MAILTO:emslandgmbh@emsland.de
GEO:52.6951211;7.3060344
X-APPLE-STRUCTURED-LOCATION;VALUE=URI;X-ADDRESS=Landkreis Emsland Kreishaus I Ordeniederung 1 Meppen 49716 Germany;X-APPLE-RADIUS=500;X-TITLE=Ordeniederung 1:geo:7.3060344,52.6951211
END:VEVENT
END:VCALENDAR