BEGIN:VCALENDAR
VERSION:2.0
PRODID:-//Emsland GmbH - ECPv6.15.18//NONSGML v1.0//EN
CALSCALE:GREGORIAN
METHOD:PUBLISH
X-WR-CALNAME:Emsland GmbH
X-ORIGINAL-URL:https://emslandgmbh.de
X-WR-CALDESC:Veranstaltungen für Emsland GmbH
REFRESH-INTERVAL;VALUE=DURATION:PT1H
X-Robots-Tag:noindex
X-PUBLISHED-TTL:PT1H
BEGIN:VTIMEZONE
TZID:Europe/Paris
BEGIN:DAYLIGHT
TZOFFSETFROM:+0100
TZOFFSETTO:+0200
TZNAME:CEST
DTSTART:20250330T010000
END:DAYLIGHT
BEGIN:STANDARD
TZOFFSETFROM:+0200
TZOFFSETTO:+0100
TZNAME:CET
DTSTART:20251026T010000
END:STANDARD
BEGIN:DAYLIGHT
TZOFFSETFROM:+0100
TZOFFSETTO:+0200
TZNAME:CEST
DTSTART:20260329T010000
END:DAYLIGHT
BEGIN:STANDARD
TZOFFSETFROM:+0200
TZOFFSETTO:+0100
TZNAME:CET
DTSTART:20261025T010000
END:STANDARD
BEGIN:DAYLIGHT
TZOFFSETFROM:+0100
TZOFFSETTO:+0200
TZNAME:CEST
DTSTART:20270328T010000
END:DAYLIGHT
BEGIN:STANDARD
TZOFFSETFROM:+0200
TZOFFSETTO:+0100
TZNAME:CET
DTSTART:20271031T010000
END:STANDARD
END:VTIMEZONE
BEGIN:VEVENT
DTSTART;TZID=Europe/Paris:20260423T090000
DTEND;TZID=Europe/Paris:20260423T113000
DTSTAMP:20260423T021925
CREATED:20251216T085610Z
LAST-MODIFIED:20260319T091242Z
UID:10000559-1776934800-1776943800@emslandgmbh.de
SUMMARY:DIN 2303 - Wehrtechnik – Chancen und Potenziale für metallverarbeitende Unternehmen
DESCRIPTION:Die metallverarbeitende Branche steht aktuell vor großen wirtschaftlichen Herausforderungen: steigende Rohstoffpreise\, ein dynamischer Wettbewerb und die zunehmenden Anforderungen an Qualität und Nachhaltigkeit setzen viele Unternehmen unter Druck. Um in diesem anspruchsvollen Umfeld zukunftsfähig zu bleiben\, ist es wichtiger denn je\, neue Möglichkeiten zu erschließen und sich strategisch breiter aufzustellen. \n\n\nDie DIN 2303 „Wehrtechnischer Dienst“ bietet Unternehmen genau diese Chance. Mit der Einhaltung dieser Norm können sich Betriebe als qualifizierte Lieferanten für die wehrtechnische Industrie positionieren – ein Markt mit stabiler Nachfrage und langfristigen Perspektiven. Die Norm ermöglicht nicht nur die Erfüllung spezifischer Qualitätsanforderungen\, sondern bietet auch die Gelegenheit\, ein zusätzliches Standbein für Ihr Unternehmen aufzubauen und sich von der Konkurrenz abzuheben. \nUnser Impulsvortrag soll Ihnen einen ersten Einblick in die Chancen und Möglichkeiten der DIN 2303 geben. Gemeinsam beleuchten wir\, wie Sie die Anforderungen der Norm umsetzen können und welche Potenziale sich für Ihre Zukunft als wehrtechnischer Dienstleister ergeben. \nNutzen Sie die Gelegenheit\, sich umfassend zu informieren und neue Perspektiven für Ihr Unternehmen zu entdecken. Wir freuen uns darauf\, Sie in unserem Vortrag willkommen zu heißen und Sie bei Ihrem Weg in einen neuen Markt zu unterstützen. \nZielgruppe:\nGeschäftsführer\, Betriebsleiter\, Qualitätsmanager und Fachpersonal von Unternehmen der metallverarbeitenden Branche\, die ihre Marktchancen im Bereich wehrtechnischer Dienstleistungen erweitern oder sichern möchten. \n1. Begrüßung und Einführung \n\nVorstellung unseres Unternehmens als beratende Ingenieure für technische Managementsysteme Schwerpunkt Schweißen.\nWarum ist die DIN 2303 für Unternehmen in der metallverarbeitenden Branche relevant?\n\n2. Überblick: DIN 2303 – Norm und Anforderungen \n\nBedeutung der DIN 2303 in der wehrtechnischen Industrie.\nÜbersicht über die Normenstruktur und ihre Anwendung.\nBesondere Anforderungen an Unternehmen: Zertifizierung\, Prozesse und Qualitätsstandards.\n\n3. Chancen für die metallverarbeitende Industrie \n\nMarktvorteile durch die Implementierung der DIN 2303.\nFallbeispiele: Erfolgreiche Umsetzung der Norm und deren wirtschaftliche Effekte.\n\n4. Praktische Umsetzung und Herausforderungen \n\nSchritte zur Implementierung der DIN 2303 im Unternehmen.\nUnterstützungsmöglichkeiten\nFördermittel Umsetzung\n\nFragen und Diskussion \n\nOffene Fragerunde: Klärung individueller Anliegen und Diskussion spezifischer Themen.\nAustausch mit anderen Teilnehmern und Referenten.\nMöglichkeit zum persönlichen Austausch mit den Referenten und anderen Teilnehmern.\n\nProgramm: \n09:00 Uhr: Eintreffen und Registrierung der Teilnehmenden \n09:30 – 09:45Uhr: Begrüßung der Teilnehmer und Firmenvorstellung \n09:45 – 10:30 Uhr: Impulsvortrag zum Thema DIN 2303\, Chancen und Umsetzung \nab ca. 10:30 Uhr: Gemeinsamer Austausch \n\n\n\nReferent: Hermann Holterhus \nIch\, Hermann Holterhus\, habe schon sehr früh meine wirkliche Berufung gefunden. Nach meinem Studium an der Fachhochschule Köln\, Fachbereich „Bauingenieurwesen“\, schloss ich im Jahr 1983 mit der Diplomprüfung ab. Durch zahlreiche Weiterbildungen habe ich mir ein umfassendes Fachwissen angeeignet und in die Praxis umgesetzt. \nNach meiner aktiven Stahlbauzeit ist es mir heute ein Anliegen\, mein Know-how an andere Unternehmen weiterzugeben – aus der Praxis für die Praxis! \n*Aufgrund der hohen Nachfrage und begrenzter Kapazität\, bitte max. 2 Personen pro Betrieb anmelden. 
URL:https://emslandgmbh.de/event/din-2303-wehrtechnik-chancen-und-potenziale-fuer-metallverarbeitende-unternehmen-2/
LOCATION:Emsviertel Dahlhok – Coworking Space\, Dahlhok 30\, Emsbüren\, 48488
CATEGORIES:MEMA,Netzwerkevent,Veranstaltung,Vortrag
ATTACH;FMTTYPE=image/heic:https://emslandgmbh.de/wp-content/uploads/2026/01/IMG_0204photo-1-scaled.jpg
GEO:52.3923421;7.2926648
X-APPLE-STRUCTURED-LOCATION;VALUE=URI;X-ADDRESS=Emsviertel Dahlhok – Coworking Space Dahlhok 30 Emsbüren 48488;X-APPLE-RADIUS=500;X-TITLE=Dahlhok 30:geo:7.2926648,52.3923421
END:VEVENT
BEGIN:VEVENT
DTSTART;TZID=Europe/Paris:20260423T120000
DTEND;TZID=Europe/Paris:20260423T160000
DTSTAMP:20260423T021925
CREATED:20260114T095157Z
LAST-MODIFIED:20260114T095157Z
UID:10000565-1776945600-1776960000@emslandgmbh.de
SUMMARY:NBank Beratungstag Meppen
DESCRIPTION:An Existenzgründer\, Start-Ups und kleine und mittlere Unternehmen richtet sich der Finanzierungssprechtag\, zu dem die Existenzgründungsinitiative Emsland (EXEL) monatlich einlädt. Sie können in einem persönlichen\, vertraulichen Einzelgespräch Ihr Vorhaben mit einem Vertreter der Nbank Beratungsstelle Osnabrück diskutieren. \nSie erhalten dabei Informationen über das Förderangebot des Landes\, des Bundes und der Region\, z. B. über Investitionsfinanzierung\, Existenzgründungsfinanzierung und Coachingprogramme für Gründer. \nDarüber hinaus werden sie informiert\, ob und wie ihr Vorhaben mit öffentlichen Finanzierungshilfen unterstützt werden kann\, wie der Antragsweg ist und welche Unterlagen erforderlich sind. \nDie Beratung ist kostenfrei.\nDie Terminvergabe erfolgt durch die Emsland GmbH. Bitte melden Sie sich telefonisch bei Mechthild Gerling (05931 44 6504) an. \nJetzt anrufen
URL:https://emslandgmbh.de/event/nbank-beratungstag-meppen-2/2026-04-23/
LOCATION:Landkreis Emsland\, Kreishaus I\, Ordeniederung 1\, Meppen\, 49716\, Germany
CATEGORIES:Beratung
ATTACH;FMTTYPE=image/jpeg:https://emslandgmbh.de/wp-content/uploads/2024/11/2025_Steinbrink_Heiner-NBank-scaled.jpg
GEO:52.6951211;7.3060344
X-APPLE-STRUCTURED-LOCATION;VALUE=URI;X-ADDRESS=Landkreis Emsland Kreishaus I Ordeniederung 1 Meppen 49716 Germany;X-APPLE-RADIUS=500;X-TITLE=Ordeniederung 1:geo:7.3060344,52.6951211
END:VEVENT
BEGIN:VEVENT
DTSTART;TZID=Europe/Paris:20260423T143000
DTEND;TZID=Europe/Paris:20260423T163000
DTSTAMP:20260423T021925
CREATED:20260123T103502Z
LAST-MODIFIED:20260123T103914Z
UID:10000572-1776954600-1776961800@emslandgmbh.de
SUMMARY:Netzwerkbesuch 2026 - rokatec GmbH in Emlichheim
DESCRIPTION:rokatec – Präzision\, Qualität und flexible Fertigungslösungen \nBei rokatec steht Qualität an erster Stelle – und das zeigt sich in jedem einzelnen Produkt. Als verlässlicher Partner für präzise Kabelkonfektionen und maßgeschneiderte Baugruppenmontagen setzt das Unternehmen individuelle Anforderungen konsequent um – von Prototypen und Kleinserien bis hin zu komplexen Großprojekten. \nModerne Technologien\, ein leistungsfähiger Maschinenpark und flexible Produktionsprozesse ermöglichen Lösungen\, die exakt auf die jeweiligen Kundenbedürfnisse zugeschnitten sind. Kabelquerschnitte bis 120 qmm können verarbeitet werden\, ergänzt durch zwei Ultraschallschweißmaschinen für Schweißknoten bis 50 qmm. Vollautomatische Crimpcenter an den Standorten sorgen für präzise\, reproduzierbare und effiziente Crimpverbindungen. Sämtliche Kabelbäume werden umfassend geprüft\, um höchste Qualitäts- und Funktionsstandards sicherzustellen. \nNeben dem Standort in Deutschland hat rokatec seine Fertigungskapazitäten in Portugal gezielt erweitert. Dort werden neben Kabelkonfektionen auch Baugruppenmontagen sowie individuelle elektrische und mechanische Montagedienstleistungen angeboten. Auch in Deutschland übernimmt rokatec Baugruppenmontagen und entwickelt passgenaue Lösungen für unterschiedlichste Projekte. \nIm Rahmen der Veranstaltung am Standort Emlichheim erhalten Sie einen praxisnahen Einblick in die Fertigung\, die technischen Möglichkeiten und die flexible Projektabwicklung bei rokatec. Erfahren Sie\, wie kurzfristige Bedarfe\, Produktionsspitzen oder komplexe Anforderungen zuverlässig umgesetzt werden – mit klaren Prozessen und einem engagierten Team. \nNutzen Sie die Gelegenheit zum Austausch und zur Vernetzung und erfahren Sie\, wie rokatec Sie bei Ihren Fertigungsprojekten wirkungsvoll unterstützen kann. \nAnmeldeschluss: Bitte melden Sie sich bis spätestens Donnerstag\, 16. April 2026 an. \nZur Anmeldung
URL:https://emslandgmbh.de/event/netzwerkbesuch-2026-rokatec-gmbh-in-emlichheim/
LOCATION:rokatec GmbH\, Rudolf-Diesel-Straße 3\, Emlichheim\, 49824
CATEGORIES:MEMA,Netzwerkevent,Veranstaltung,Vortrag
ATTACH;FMTTYPE=image/jpeg:https://emslandgmbh.de/wp-content/uploads/2026/01/Rokatec-scaled.jpg
ORGANIZER;CN="Emsachse - Wachstumsregion Ems-Achse e. V.":MAILTO:info@emsachse.de
GEO:52.6244155;6.8637485
X-APPLE-STRUCTURED-LOCATION;VALUE=URI;X-ADDRESS=rokatec GmbH Rudolf-Diesel-Straße 3 Emlichheim 49824;X-APPLE-RADIUS=500;X-TITLE=Rudolf-Diesel-Straße 3:geo:6.8637485,52.6244155
END:VEVENT
END:VCALENDAR